BEGIN:VCALENDAR
VERSION:2.0
PRODID:-//ChamberMaster//Event Calendar 2.0//EN
METHOD:PUBLISH
X-PUBLISHED-TTL:P3D
REFRESH-INTERVAL:P3D
CALSCALE:GREGORIAN
BEGIN:VEVENT
DTSTART:20220625T150000Z
DTEND:20220625T233000Z
X-MICROSOFT-CDO-ALLDAYEVENT:FALSE
SUMMARY:Wyoming Climate Summit
DESCRIPTION:The 2022 Wyoming Climate Summit will bring together Wyomingites from all corners of the state and the Wind River Reservation who are concerned about the impacts of climate change on their communities and are interested in working on meaningful solutions. The full-day event is free and open to the public and will include speakers\, panels\, workshops\, and networking opportunities.\n\nMore information: landercan.org\n\n\n\nDate: June 25\, 2022\n\nTime: 9 a.m. to 5:30 p.m.\n\nLocation: Lander Community and Convention Center\, 950 Buena Vista Drive\, Lander\, WY 82520\n\nHost: Lander Climate Action Network
X-ALT-DESC;FMTTYPE=text/html:<span style="color: rgb(34\, 34\, 34)\; font-family: Arial\, Helvetica\, sans-serif\; font-size: small\;">The 2022 Wyoming Climate Summit will bring together Wyomingites from all corners of the state and the Wind River Reservation who are concerned about the impacts of climate change on their communities and are interested in working on meaningful solutions. The full-day event is free and open to the public and will include speakers\, panels\, workshops\, and networking opportunities.</span><br style="color: rgb(34\, 34\, 34)\; font-family: Arial\, Helvetica\, sans-serif\; font-size: small\;" />\n<b style="color: rgb(34\, 34\, 34)\; font-family: Arial\, Helvetica\, sans-serif\; font-size: small\;">More information:</b><span style="color: rgb(34\, 34\, 34)\; font-family: Arial\, Helvetica\, sans-serif\; font-size: small\;">&nbsp\;</span><a data-saferedirecturl="https://www.google.com/url?q=http://landercan.org&amp\;source=gmail&amp\;ust=1651000051079000&amp\;usg=AOvVaw20tb8pao4-igby1ktPKaR1" href="http://landercan.org/" style="color: rgb(17\, 85\, 204)\; font-family: Arial\, Helvetica\, sans-serif\; font-size: small\;" target="_blank">landercan.org</a><br />\n<br />\n<b style="color: rgb(34\, 34\, 34)\; font-family: Arial\, Helvetica\, sans-serif\; font-size: small\;">Date:</b><span style="color: rgb(34\, 34\, 34)\; font-family: Arial\, Helvetica\, sans-serif\; font-size: small\;">&nbsp\;June 25\, 2022</span><br style="color: rgb(34\, 34\, 34)\; font-family: Arial\, Helvetica\, sans-serif\; font-size: small\;" />\n<b style="color: rgb(34\, 34\, 34)\; font-family: Arial\, Helvetica\, sans-serif\; font-size: small\;">Time:&nbsp\;</b><span style="color: rgb(34\, 34\, 34)\; font-family: Arial\, Helvetica\, sans-serif\; font-size: small\;">9 a.m. to 5:30 p.m.</span><br style="color: rgb(34\, 34\, 34)\; font-family: Arial\, Helvetica\, sans-serif\; font-size: small\;" />\n<b style="color: rgb(34\, 34\, 34)\; font-family: Arial\, Helvetica\, sans-serif\; font-size: small\;">Location:&nbsp\;</b><span style="color: rgb(34\, 34\, 34)\; font-family: Arial\, Helvetica\, sans-serif\; font-size: small\;">Lander Community and Convention Center\, 950 Buena Vista Drive\, Lander\, WY 82520</span><br style="color: rgb(34\, 34\, 34)\; font-family: Arial\, Helvetica\, sans-serif\; font-size: small\;" />\n<b style="color: rgb(34\, 34\, 34)\; font-family: Arial\, Helvetica\, sans-serif\; font-size: small\;">Host:</b><span style="color: rgb(34\, 34\, 34)\; font-family: Arial\, Helvetica\, sans-serif\; font-size: small\;">&nbsp\;Lander Climate Action Network</span>
LOCATION:Lander Community and Convention Center\, 950 Buena Vista Drive\, Lander\, WY 82520
UID:e.1258.28774
SEQUENCE:3
DTSTAMP:20260419T135440Z
URL:https://info.landerchamber.org/events/details/wyoming-climate-summit-28774
END:VEVENT

END:VCALENDAR
