BEGIN:VCALENDAR
VERSION:2.0
PRODID:-//ChamberMaster//Event Calendar 2.0//EN
METHOD:PUBLISH
X-PUBLISHED-TTL:P3D
REFRESH-INTERVAL:P3D
CALSCALE:GREGORIAN
BEGIN:VEVENT
DTSTART;VALUE=DATE:20240516
DTEND;VALUE=DATE:20240517
TRANSP:TRANSPARENT
X-MICROSOFT-CDO-ALLDAYEVENT:TRUE
SUMMARY:Spring Friends and Family Day
DESCRIPTION:Best Day Ever!
X-ALT-DESC;FMTTYPE=text/html:Best Day Ever!
LOCATION:
UID:e.1258.31015
SEQUENCE:3
DTSTAMP:20260421T023940Z
URL:https://info.landerchamber.org/events/details/spring-friends-and-family-day-31015
END:VEVENT

END:VCALENDAR
