BEGIN:VCALENDAR
VERSION:2.0
PRODID:-//ChamberMaster//Event Calendar 2.0//EN
METHOD:PUBLISH
X-PUBLISHED-TTL:P3D
REFRESH-INTERVAL:P3D
CALSCALE:GREGORIAN
BEGIN:VEVENT
DTSTART:20191209T230000Z
DTEND:20191210T020000Z
X-MICROSOFT-CDO-ALLDAYEVENT:FALSE
SUMMARY:Open House| St. John's Medical Center| Lander
DESCRIPTION:Open House\n\nSt. John's Medical Center | Lander\n\nTour the clinic\n\nMeet our providers\n\nAppetizers provided by Cowfish
X-ALT-DESC;FMTTYPE=text/html:<div style="color: rgb(34\, 34\, 34)\; font-family: Arial\, Helvetica\, sans-serif\; font-size: small\;"><strong><span style="font-size:36px\;">Open House</span></strong></div>\n\n<div style="color: rgb(34\, 34\, 34)\; font-family: Arial\, Helvetica\, sans-serif\; font-size: small\;"><u><span style="font-size:20px\;">St. John&rsquo\;s Medical Center | Lander</span></u></div>\n\n<div style="color: rgb(34\, 34\, 34)\; font-family: Arial\, Helvetica\, sans-serif\; font-size: small\;"><strong><span style="font-size:18px\;">Tour the clinic</span></strong></div>\n\n<div style="color: rgb(34\, 34\, 34)\; font-family: Arial\, Helvetica\, sans-serif\; font-size: small\;"><strong><span style="font-size:18px\;">Meet our providers</span></strong></div>\n\n<div style="color: rgb(34\, 34\, 34)\; font-family: Arial\, Helvetica\, sans-serif\; font-size: small\;"><strong><span style="font-size:18px\;">Appetizers provided by Cowfish</span></strong></div>\n
LOCATION:175 N. 1st
UID:e.1258.26184
SEQUENCE:3
DTSTAMP:20260423T104409Z
URL:https://info.landerchamber.org/events/details/open-house-st-john-s-medical-center-lander-26184
END:VEVENT

END:VCALENDAR
