BEGIN:VCALENDAR
VERSION:2.0
PRODID:-//ChamberMaster//Event Calendar 2.0//EN
METHOD:PUBLISH
X-PUBLISHED-TTL:P3D
REFRESH-INTERVAL:P3D
CALSCALE:GREGORIAN
BEGIN:VEVENT
DTSTART:20191204T233000Z
DTEND:20191205T003000Z
X-MICROSOFT-CDO-ALLDAYEVENT:FALSE
SUMMARY:LITTLES HOLIDAY PARTY
DESCRIPTION:On the fourth day of Christmas\, my true love gave to me!!\n\n\n\nA FREE holiday art project for kiddos. Ages 2-6. http://www.landerartcenter.com/classschedule
X-ALT-DESC;FMTTYPE=text/html:<span style="font-family:comic sans ms">On the fourth day of Christmas\, my true love gave to me!!<br />\n<br />\nA FREE holiday art project for kiddos. Ages 2-6.&nbsp\;<a href="http://www.landerartcenter.com/classschedule">http://www.landerartcenter.com/classschedule</a></span>
LOCATION:Lander Art Center.
UID:e.1258.26214
SEQUENCE:3
DTSTAMP:20260423T104230Z
URL:https://info.landerchamber.org/events/details/littles-holiday-party-26214
END:VEVENT

END:VCALENDAR
