BEGIN:VCALENDAR
VERSION:2.0
PRODID:-//ChamberMaster//Event Calendar 2.0//EN
METHOD:PUBLISH
X-PUBLISHED-TTL:P3D
REFRESH-INTERVAL:P3D
CALSCALE:GREGORIAN
BEGIN:VEVENT
DTSTART;VALUE=DATE:20220624
DTEND;VALUE=DATE:20220627
TRANSP:TRANSPARENT
X-MICROSOFT-CDO-ALLDAYEVENT:TRUE
SUMMARY:62nd Annual Eastern Shoshone Indian Days Powwow
DESCRIPTION:The 62nd Annual Eastern Shoshone Indian Days Powwow will be held June 24-26 in Fort Washakie.\n\n\n\nCategories are: Tiny Tots (0-6)\, Juniors (7-12)\, Teen (13-17)\, Junior Adult (18-39)\, Senior Adult (40-59)\, Golden Age (60+).\n\n\n\nDance styles are:\n\nJingle\, Grass\, Fancy Shawl\, Fancy Feather\, Northern Traditional (18 & over only)\, Southern Traditional\, Southern Straight\, Fancy Prairie Chicken\, Northern Warbonnet.\n\n\n\nDrum contest: daily drum payout for first 10 to sign up daily.\n\nEnjoy food\, arts & crafts.\n\n\n\nGeneral information: esecommittee@gmail.com\n\nVendor information: contact Rachel at (307) 349-3490\, rachelynostrosa@gmail.com
X-ALT-DESC;FMTTYPE=text/html:The 62nd Annual Eastern Shoshone Indian Days Powwow will be held June 24-26 in Fort Washakie.<br />\n<br />\nCategories are: Tiny Tots (0-6)\, Juniors (7-12)\, Teen (13-17)\, Junior Adult (18-39)\, Senior Adult (40-59)\, Golden Age (60+).<br />\n<br />\nDance styles are:<br />\nJingle\, Grass\, Fancy Shawl\, Fancy Feather\, Northern Traditional (18 &amp\; over only)\, Southern Traditional\, Southern Straight\, Fancy Prairie Chicken\, Northern Warbonnet.<br />\n<br />\nDrum contest: daily drum payout for first 10 to sign up daily.<br />\nEnjoy food\, arts &amp\; crafts.<br />\n<br />\nGeneral information: esecommittee@gmail.com<br />\nVendor information: contact Rachel at (307) 349-3490\, rachelynostrosa@gmail.com&nbsp\;<br />\n&nbsp\;
LOCATION:Fort Washakie Powwow Grounds 36 A Gaw Bombe Ln\, Fort Washakie\, WY
UID:e.1258.28776
SEQUENCE:3
DTSTAMP:20260419T135804Z
URL:https://info.landerchamber.org/events/details/62nd-annual-eastern-shoshone-indian-days-powwow-28776
END:VEVENT

END:VCALENDAR
