BEGIN:VCALENDAR
VERSION:2.0
PRODID:-//ChamberMaster//Event Calendar 2.0//EN
METHOD:PUBLISH
X-PUBLISHED-TTL:P3D
REFRESH-INTERVAL:P3D
CALSCALE:GREGORIAN
BEGIN:VEVENT
DTSTART;VALUE=DATE:20200605
DTEND;VALUE=DATE:20200608
TRANSP:TRANSPARENT
X-MICROSOFT-CDO-ALLDAYEVENT:TRUE
SUMMARY:Wyoming Writers Conference 2020
DESCRIPTION:Wyoming Writers Annual Conference 2020 Lander WY June 5-7\n\nMore information to come!\n\nPlease visit \n\nhttps://wyomingwritersinc.wildapricot.org/\n\nfor more information.
X-ALT-DESC;FMTTYPE=text/html:<span style="font-size:22px\;"><strong>Wyoming Writers Annual Conference 2020 Lander WY </strong>June 5-7</span><br />\nMore information to come!<br />\nPlease visit&nbsp\;<br />\n<a href="https://wyomingwritersinc.wildapricot.org/">https://wyomingwritersinc.wildapricot.org/</a><br />\nfor more information.
LOCATION:Lander WY
UID:e.1258.25346
SEQUENCE:3
DTSTAMP:20260420T230604Z
URL:http://info.landerchamber.org/events/details/wyoming-writers-conference-2020-25346
END:VEVENT

END:VCALENDAR
