BEGIN:VCALENDAR
VERSION:2.0
PRODID:-//ChamberMaster//Event Calendar 2.0//EN
METHOD:PUBLISH
X-PUBLISHED-TTL:P3D
REFRESH-INTERVAL:P3D
CALSCALE:GREGORIAN
BEGIN:VEVENT
DTSTART:20240418T190000Z
DTEND:20240418T200000Z
X-MICROSOFT-CDO-ALLDAYEVENT:FALSE
SUMMARY:Wyoming Workforce Development Training Fund Q&A Session 4/18/24
DESCRIPTION:WDTF will be hosting upcoming Question & Answer Sessions to help businesses navigate the grant process. Anyone is able to attend and ask questions about specific grants or the overall process.\n\n\n\nA tour of our website will be provided with an overview of the grants so businesses can have a better understanding of which grant options may best fit their training needs\,
X-ALT-DESC;FMTTYPE=text/html:<div style="margin: 0px\; padding: 0px\; border: 0px\; outline: 0px\; font-size: 17px\; vertical-align: baseline\; background: transparent\; list-style: disc\;"><span style="font-size:14px\;"><a href="https://dws.wyo.gov/dws-division/business-training-support-unit/workforce-development-training-fund/" target="_blank">WDTF</a> will be hosting upcoming Question &amp\; Answer Sessions to help businesses navigate the grant process.&nbsp\;Anyone is able to&nbsp\;attend and ask questions about specific grants or the overall process.<br />\n<br />\nA tour of our website will be provided with an overview of the grants so businesses can have a better understanding of which grant options may best fit their training needs\,</span></div>\n
LOCATION:Online
UID:e.1258.31058
SEQUENCE:3
DTSTAMP:20260419T210532Z
URL:http://info.landerchamber.org/events/details/wyoming-workforce-development-training-fund-q-a-session-4-18-24-31058
END:VEVENT

END:VCALENDAR
