BEGIN:VCALENDAR
VERSION:2.0
PRODID:-//ChamberMaster//Event Calendar 2.0//EN
METHOD:PUBLISH
X-PUBLISHED-TTL:P3D
REFRESH-INTERVAL:P3D
CALSCALE:GREGORIAN
BEGIN:VEVENT
DTSTART:20240319T190000Z
DTEND:20240319T200000Z
X-MICROSOFT-CDO-ALLDAYEVENT:FALSE
SUMMARY:Wyoming Workforce Development Training Fund Q&A Session 3/19/24
DESCRIPTION:WDTF will be hosting upcoming Question & Answer Sessions to help businesses navigate the grant process. Anyone is able to attend and ask questions about specific grants or the overall process.\n\n\n\nA tour of our website will be provided with an overview of the grants so businesses can have a better understanding of which grant options may best fit their training needs.\n\n\n\nUpcoming Q&A sessions are:\n\n\n	3/19/24\, Tuesday\, 1 pm (To register\, please (click here)\n	4/18/24\, Thursday\, 1 pm (To register\, please (click here)
X-ALT-DESC;FMTTYPE=text/html:<div style="margin: 0px\; padding: 0px\; border: 0px\; outline: 0px\; font-size: 17px\; vertical-align: baseline\; background: transparent\; list-style: disc\;"><span style="font-size:14px\;">WDTF will be hosting upcoming Question &amp\; Answer Sessions to help businesses navigate the grant process.&nbsp\;Anyone is able to&nbsp\;attend and ask questions about specific grants or the overall process.<br />\n<br />\nA tour of our website will be provided with an overview of the grants so businesses can have a better understanding of which grant options may best fit their training needs.<br />\n<br />\nUpcoming Q&amp\;A sessions are:</span></div>\n\n<ul style="padding-right: 0px\; padding-left: 0px\; box-sizing: border-box\; margin: 0px 0px 25px 25px\; border: 0px\; outline: 0px\; font-size: 1.7rem\; vertical-align: baseline\; background-image: initial\; background-position: initial\; background-size: initial\; background-repeat: initial\; background-attachment: initial\; background-origin: initial\; background-clip: initial\; line-height: 1.7\; color: rgb(18\, 32\, 8)\; font-family: &quot\;Libre Franklin&quot\;\, sans-serif\;">\n	<li style="margin: 0px\; padding: 0px\; border: 0px\; outline: 0px\; font-size: 17px\; vertical-align: baseline\; background: transparent\; list-style: disc\;"><span style="font-size:14px\;"><strong style="margin: 0px\; padding: 0px\; border: 0px\; outline: 0px\; vertical-align: baseline\; background: transparent\;">3/19/24\, Tuesday\, 1 pm&nbsp\;</strong>(To register\, please (<a href="https://wyo-dws-gov.zoom.us/j/89946647383?pwd=L4lKXbCLV7RHzeYRgVRNScYpyadYxq.1" rel="noreferrer noopener" style="color: rgb(162\, 42\, 48)\; transition: all 0.3s ease 0s\; outline: none\;" target="_blank">click here</a>)</span></li>\n	<li style="margin: 0px\; padding: 0px\; border: 0px\; outline: 0px\; font-size: 17px\; vertical-align: baseline\; background: transparent\; list-style: disc\;"><span style="font-size:14px\;"><strong style="margin: 0px\; padding: 0px\; border: 0px\; outline: 0px\; vertical-align: baseline\; background: transparent\;">4/18/24\, Thursday\, 1 pm&nbsp\;</strong>(To register\, please (<a href="https://wyo-dws-gov.zoom.us/j/84445708933?pwd=aJVBRsCs1aHFASga46UipZ0c42Dnsw.1" rel="noreferrer noopener" style="color: rgb(162\, 42\, 48)\; transition: all 0.3s ease 0s\; outline: none\;" target="_blank">click here</a>)</span></li>\n</ul>\n
LOCATION:Online
UID:e.1258.31057
SEQUENCE:3
DTSTAMP:20260419T221844Z
URL:http://info.landerchamber.org/events/details/wyoming-workforce-development-training-fund-q-a-session-3-19-24-31057
END:VEVENT

END:VCALENDAR
