BEGIN:VCALENDAR
VERSION:2.0
PRODID:-//ChamberMaster//Event Calendar 2.0//EN
METHOD:PUBLISH
X-PUBLISHED-TTL:P3D
REFRESH-INTERVAL:P3D
CALSCALE:GREGORIAN
BEGIN:VEVENT
DTSTART:20240208T190000Z
DTEND:20240208T193000Z
X-MICROSOFT-CDO-ALLDAYEVENT:FALSE
SUMMARY:Wyoming SBDC Webinar - Passwords 101
DESCRIPTION:We hear it all the time: use strong passwords\, change them often\, and don't use them more than once. So how do you put that into practice? This webinar will give you best practices for using and creating passwords\, which are the front door for hackers to disrupt your business operations\, data\, and customer records. We'll help you keep that front door locked!\n\n\n\nPaul Johnson\, Cybersecurity Program Manager\, and Jim Drever\, Regional Director and Certified Ethical Hacker will lead this informative\, lively\, and interactive session to help you and your business become more cyber ready.\n\nReserve your spot here.
X-ALT-DESC;FMTTYPE=text/html:<p style="box-sizing: border-box\; margin: 0px\; padding: 0px 0px 1em\; border: 0px\; outline: 0px\; font-size: 14px\; text-size-adjust: 100%\; vertical-align: baseline\; background-image: initial\; background-position: initial\; background-size: initial\; background-repeat: initial\; background-attachment: initial\; background-origin: initial\; background-clip: initial\; color: rgb(53\, 53\, 53)\; font-family: Verdana\, Helvetica\, Arial\, Lucida\, sans-serif\;">We hear it all the time: use strong passwords\, change them often\, and don&rsquo\;t use them more than once. So how do you put that into practice? This webinar will give you best practices for using and creating passwords\, which are the front door for hackers to disrupt your business operations\, data\, and customer records. We&rsquo\;ll help you keep that front door locked!<br />\n<br />\n<span class="registration-description" data-bind="expander:{'expandText': moreButtonText()\, 'userCollapseText': lessButtonText()\, 'text':getWebinarInfo().description}">Paul Johnson\, Cybersecurity Program Manager\, and Jim Drever\, Regional Director and Certified Ethical Hacker will lead this informative\, lively\, and interactive session to help you and your business become more cyber ready.</span></p>\n\n<p style="box-sizing: border-box\; margin: 0px\; padding: 0px\; border: 0px\; outline: 0px\; text-size-adjust: 100%\; vertical-align: baseline\; background: transparent\;"><a href="https://register.gotowebinar.com/register/6253843354103411548" target="_blank"><strong>Reserve your spot here.</strong></a></p>\n
LOCATION:Online
UID:e.1258.31035
SEQUENCE:3
DTSTAMP:20260419T233912Z
URL:http://info.landerchamber.org/events/details/wyoming-sbdc-webinar-passwords-101-31035
END:VEVENT

END:VCALENDAR
