BEGIN:VCALENDAR
VERSION:2.0
PRODID:-//ChamberMaster//Event Calendar 2.0//EN
METHOD:PUBLISH
X-PUBLISHED-TTL:P3D
REFRESH-INTERVAL:P3D
CALSCALE:GREGORIAN
BEGIN:VEVENT
DTSTART:20240209T000000Z
DTEND:20240209T010000Z
X-MICROSOFT-CDO-ALLDAYEVENT:FALSE
SUMMARY:Wyoming SBDC Webinar - 2024 Virtual Fire Vendor Outreach Sessions
DESCRIPTION:The USDA Forest Service contracts with industry equipment and services to aid in obtaining mission objectives such as wildland fire suppression\, assisting in supporting the Wildfire Crisis Strategy (WCS)\, and other incident project support. The Virtual Incident Procurement (VIPR) system is used for Forest Service regions to issue solicitations and award agreements for resources secured under preseason agreements. The FVOS's intent is to distribute information on current solicitations and contracting opportunities.\n\nPLEASE NOTE: Participation is voluntary\; meeting link will be sent prior to meeting time.\n\nReserve your spot here.
X-ALT-DESC;FMTTYPE=text/html:<p>The USDA Forest Service contracts with industry equipment and services to aid in obtaining mission objectives such as wildland fire suppression\, assisting in supporting the Wildfire Crisis Strategy (WCS)\, and other incident project support.&nbsp\;The Virtual Incident Procurement (VIPR) system is used for Forest Service regions to issue solicitations and award agreements for resources secured under preseason agreements. The FVOS&rsquo\;s intent is to distribute information&nbsp\;on current solicitations and contracting opportunities.</p>\n\n<p>PLEASE NOTE: Participation is voluntary\; meeting link will be sent prior to meeting time.</p>\n\n<p style="box-sizing: border-box\; margin: 0px\; padding: 0px\; border: 0px\; outline: 0px\; text-size-adjust: 100%\; vertical-align: baseline\; background: transparent\;"><a href="https://forms.office.com/pages/responsepage.aspx?id=5zZb7e4BvE6GfuA8-g1GlypBR6TWzSBMjkBAD-pqgUNUQTVKQjc1OFJUREs0NDQ5R0RESzQ0S1IyTy4u&amp\;web=1&amp\;wdLOR=cE5A37395-4990-4F6E-9BBA-9FEE52935AF7" target="_blank"><strong>Reserve your spot here.</strong></a></p>\n
LOCATION:Online
UID:e.1258.31036
SEQUENCE:3
DTSTAMP:20260419T234538Z
URL:http://info.landerchamber.org/events/details/wyoming-sbdc-webinar-2024-virtual-fire-vendor-outreach-sessions-31036
END:VEVENT

END:VCALENDAR
