BEGIN:VCALENDAR
VERSION:2.0
PRODID:-//ChamberMaster//Event Calendar 2.0//EN
METHOD:PUBLISH
X-PUBLISHED-TTL:P3D
REFRESH-INTERVAL:P3D
CALSCALE:GREGORIAN
BEGIN:VEVENT
DTSTART:20240229T184500Z
DTEND:20240229T201500Z
X-MICROSOFT-CDO-ALLDAYEVENT:FALSE
SUMMARY:Wyoming SBDC The Inside Scoop: How to Get Your First Small Business Loan Request Approved – Douglas
DESCRIPTION:2024 will be the year you start or expand your small business   but you need financing to make it happen. The SBA Wyoming District Office & Wyoming SBDC Network will take you behind the scenes and share what it will take for you to get ready to approach a lender\, and how you can increase your chances of getting an approval on your loan request.\n\n\n\nWe'll share best practices for ensuring that your personal financial situation   the foundation for the success of your business is as strong as possible\, and we'll go over:\n\n  preparing a personal financial statement\n\n  checking your credit score\n\n  what your safety net looks like if it takes longer than you expect to achieve the revenues you're projecting\n\n  a hands-on case study to review cash flow projections for a loan application\, so you will better understand how to evaluate a potential deal from a lender's perspective.\n\n\n\nYou will also have an opportunity to schedule a free one-on-one appointment with your SBDC Regional Director to assist you with developing cash flow projections for your business\, to help you explain to your lender where the money to repay your loan will come from\, in the format they will understand.\n\n\n\nBring your lunch and your questions!\n\n\n\nPresenter:  Steen Stovall   Wyoming SBDC Network\, Drew Dietrich   Wyoming Business Council\, Amy Lea   SBA
X-ALT-DESC;FMTTYPE=text/html:<div style="margin: 0px\; padding: 0px\; border: 0px\; font-variant-numeric: inherit\; font-variant-east-asian: inherit\; font-variant-alternates: inherit\; font-stretch: inherit\; font-size: 16px\; line-height: inherit\; font-family: &quot\;Open Sans&quot\;\, sans-serif\; font-optical-sizing: inherit\; font-kerning: inherit\; font-feature-settings: inherit\; font-variation-settings: inherit\; color: rgb(0\, 0\, 0)\;">2024 will be the year you start or expand your small business &ndash\; but you need financing to make it happen. The SBA Wyoming District Office &amp\; Wyoming SBDC Network will take you behind the scenes and share what it will take for you to get ready to approach a lender\, and how you can increase your chances of getting an approval on your loan request.<br />\n<br />\nWe&rsquo\;ll share best practices for ensuring that your personal financial situation &ndash\; the foundation for the success of your business is as strong as possible\, and we&rsquo\;ll go over:<br />\n&bull\; preparing a personal financial statement<br />\n&bull\; checking your credit score<br />\n&bull\; what your safety net looks like if it takes longer than you expect to achieve the revenues you&rsquo\;re projecting<br />\n&bull\; a hands-on case study to review cash flow projections for a loan application\, so you will better understand how to evaluate a potential deal from a lender&rsquo\;s perspective.<br />\n<br />\nYou will also have an opportunity to schedule a free one-on-one appointment with your SBDC Regional Director to assist you with developing cash flow projections for your business\, to help you explain to your lender where the money to repay your loan will come from\, in the format they will understand.<br />\n<br />\nBring your lunch and your questions!<br />\n<br />\nPresenter:&nbsp\; Steen Stovall &ndash\; Wyoming SBDC Network\, Drew Dietrich &ndash\; Wyoming Business Council\, Amy Lea &ndash\; SBA</div>\n
LOCATION:In-Person Event: Converse County Library 300 Walnut St Douglas\, WY
UID:e.1258.31063
SEQUENCE:3
DTSTAMP:20260419T234735Z
URL:http://info.landerchamber.org/events/details/wyoming-sbdc-the-inside-scoop-how-to-get-your-first-small-business-loan-request-approved-douglas-31063
END:VEVENT

END:VCALENDAR
