BEGIN:VCALENDAR
VERSION:2.0
PRODID:-//ChamberMaster//Event Calendar 2.0//EN
METHOD:PUBLISH
X-PUBLISHED-TTL:P3D
REFRESH-INTERVAL:P3D
CALSCALE:GREGORIAN
BEGIN:VEVENT
DTSTART:20240305T190000Z
DTEND:20240305T200000Z
X-MICROSOFT-CDO-ALLDAYEVENT:FALSE
SUMMARY:Wyoming SBDC APEX Accelerator Lunch & Learn: The Wow Factor - Writing a Capability Statement that Wows
DESCRIPTION:Your capability statement is your one-page resum  for your business in the world of government contracting. Capability statements can be effectively utilized in many ways\, which we will explore\, but what will the contracting officer see and learn when they look at it? This one-hour lunch and learn will teach you to carefully and WOWfully craft a capability statement that will give you a leg up in your pursuit of government contracts.\n\n\n\nPresenters: Janean Forsyth\, Program Manager\, Apex Accelerator\, Sarah Mikesell Growney\, Procurement Advisor\, Apex Accelerator
X-ALT-DESC;FMTTYPE=text/html:<p style="padding: 0px\; border: 0px\; outline: 0px\; font-size: 14px\; text-size-adjust: 100%\; vertical-align: baseline\; background: transparent\; color: rgb(33\, 33\, 33)\; font-family: Verdana\, Helvetica\, Arial\, Lucida\, sans-serif\; box-sizing: border-box !important\; margin: 0px 0px 25px !important\; line-height: var(--line-height) !important\;">Your capability statement is your one-page resum&eacute\; for your business in the world of government contracting. Capability statements can be effectively utilized in many ways\, which we will explore\, but what will the contracting officer see and learn when they look at it? This one-hour lunch and learn will teach you to carefully and WOWfully craft a capability statement that will give you a leg up in your pursuit of government contracts.<br />\n<br />\nPresenters: Janean Forsyth\, Program Manager\, Apex Accelerator\, Sarah Mikesell Growney\, Procurement Advisor\, Apex Accelerator</p>\n
LOCATION:Online
UID:e.1258.31066
SEQUENCE:3
DTSTAMP:20260419T221901Z
URL:http://info.landerchamber.org/events/details/wyoming-sbdc-apex-accelerator-lunch-learn-the-wow-factor-writing-a-capability-statement-that-wows-31066
END:VEVENT

END:VCALENDAR
