BEGIN:VCALENDAR
VERSION:2.0
PRODID:-//ChamberMaster//Event Calendar 2.0//EN
METHOD:PUBLISH
X-PUBLISHED-TTL:P3D
REFRESH-INTERVAL:P3D
CALSCALE:GREGORIAN
BEGIN:VEVENT
DTSTART:20240301T000000Z
DTEND:20240301T010000Z
X-MICROSOFT-CDO-ALLDAYEVENT:FALSE
SUMMARY:Wyoming SBDC 2024 Virtual Fire Vendor Outreach Session
DESCRIPTION:The USDA Forest Service contracts with industry equipment and services to aid in obtaining mission objectives such as wildland fire suppression\, assisting in supporting the Wildfire Crisis Strategy (WCS)\, and other incident project support. The Virtual Incident Procurement (VIPR) system is used for Forest Service regions to issue solicitations and award agreements for resources secured under preseason agreements. The FVOS's intent is to distribute information on current solicitations and contracting opportunities.\n\n\n\nPLEASE NOTE: Participation is voluntary\; meeting link will be sent prior to meeting time.
X-ALT-DESC;FMTTYPE=text/html:<div style="margin: 0px\; padding: 0px\; border: 0px\; font-variant-numeric: inherit\; font-variant-east-asian: inherit\; font-variant-alternates: inherit\; font-stretch: inherit\; font-size: 16px\; line-height: inherit\; font-family: &quot\;Open Sans&quot\;\, sans-serif\; font-optical-sizing: inherit\; font-kerning: inherit\; font-feature-settings: inherit\; font-variation-settings: inherit\; color: rgb(0\, 0\, 0)\;">The USDA Forest Service contracts with industry equipment and services to aid in obtaining mission objectives such as wildland fire suppression\, assisting in supporting the Wildfire Crisis Strategy (WCS)\, and other incident project support. The Virtual Incident Procurement (VIPR) system is used for Forest Service regions to issue solicitations and award agreements for resources secured under preseason agreements. The FVOS&rsquo\;s intent is to distribute information on current solicitations and contracting opportunities.<br />\n<br />\nPLEASE NOTE: Participation is voluntary\; meeting link will be sent prior to meeting time.</div>\n
LOCATION:Online
UID:e.1258.31064
SEQUENCE:3
DTSTAMP:20260419T234618Z
URL:http://info.landerchamber.org/events/details/wyoming-sbdc-2024-virtual-fire-vendor-outreach-session-31064
END:VEVENT

END:VCALENDAR
