BEGIN:VCALENDAR
VERSION:2.0
PRODID:-//ChamberMaster//Event Calendar 2.0//EN
METHOD:PUBLISH
X-PUBLISHED-TTL:P3D
REFRESH-INTERVAL:P3D
CALSCALE:GREGORIAN
BEGIN:VEVENT
DTSTART:20230916T000000Z
DTEND:20230916T030000Z
X-MICROSOFT-CDO-ALLDAYEVENT:FALSE
SUMMARY:Wyoming Life Resource Center Fall Festival 2023
DESCRIPTION:Join the Wyoming Life Resource Center for a Fall Festival evening of fun activities and live entertainment! All are welcome\, bring the family\, it's free!\n\n\n\n\n\n\n\n\n	live music featuring local band\, NIGHTFIRE!\n	ride the WLRC TRAIN\n	test your skills at plunging WLRC staff into the dunk tank! \n	face painting and temp tattoos\n	free cotton candy and popcorn\n	button booth\n	play giant Jenga and corn hole\n\nStay tuned for more awesome things coming!
X-ALT-DESC;FMTTYPE=text/html:<p>Join the Wyoming Life Resource Center for a Fall Festival evening of fun activities and live entertainment! All are welcome\, bring the family\, it&rsquo\;s free!</p>\n\n<div dir="auto">\n<div dir="auto">\n<div class="x1iorvi4 x1pi30zi x1l90r2v x1swvt13" data-ad-comet-preview="message" data-ad-preview="message">\n<div class="x78zum5 xdt5ytf xz62fqu x16ldp7u">\n<div class="xu06os2 x1ok221b">\n<div class="xdj266r x11i5rnm xat24cr x1mh8g0r x1vvkbs x126k92a">\n<ul dir="ltr">\n	<li><span class="x193iq5w xeuugli x13faqbe x1vvkbs x1xmvt09 x1lliihq x1s928wv xhkezso x1gmr53x x1cpjm7i x1fgarty x1943h6x xudqn12 x3x7a5m x6prxxf xvq8zen xo1l8bm xzsf02u x1yc453h" dir="auto">live music featuring local band\, NIGHTFIRE!</span></li>\n	<li><span class="x193iq5w xeuugli x13faqbe x1vvkbs x1xmvt09 x1lliihq x1s928wv xhkezso x1gmr53x x1cpjm7i x1fgarty x1943h6x xudqn12 x3x7a5m x6prxxf xvq8zen xo1l8bm xzsf02u x1yc453h" dir="auto">ride the WLRC TRAIN</span></li>\n	<li><span class="x193iq5w xeuugli x13faqbe x1vvkbs x1xmvt09 x1lliihq x1s928wv xhkezso x1gmr53x x1cpjm7i x1fgarty x1943h6x xudqn12 x3x7a5m x6prxxf xvq8zen xo1l8bm xzsf02u x1yc453h" dir="auto">test your skills at plunging WLRC staff into the dunk tank! </span></li>\n	<li><span class="x193iq5w xeuugli x13faqbe x1vvkbs x1xmvt09 x1lliihq x1s928wv xhkezso x1gmr53x x1cpjm7i x1fgarty x1943h6x xudqn12 x3x7a5m x6prxxf xvq8zen xo1l8bm xzsf02u x1yc453h" dir="auto">face painting and temp tattoos</span></li>\n	<li><span class="x193iq5w xeuugli x13faqbe x1vvkbs x1xmvt09 x1lliihq x1s928wv xhkezso x1gmr53x x1cpjm7i x1fgarty x1943h6x xudqn12 x3x7a5m x6prxxf xvq8zen xo1l8bm xzsf02u x1yc453h" dir="auto">free cotton candy and popcorn</span></li>\n	<li><span class="x193iq5w xeuugli x13faqbe x1vvkbs x1xmvt09 x1lliihq x1s928wv xhkezso x1gmr53x x1cpjm7i x1fgarty x1943h6x xudqn12 x3x7a5m x6prxxf xvq8zen xo1l8bm xzsf02u x1yc453h" dir="auto">button booth</span></li>\n	<li><span class="x193iq5w xeuugli x13faqbe x1vvkbs x1xmvt09 x1lliihq x1s928wv xhkezso x1gmr53x x1cpjm7i x1fgarty x1943h6x xudqn12 x3x7a5m x6prxxf xvq8zen xo1l8bm xzsf02u x1yc453h" dir="auto">play giant Jenga and corn hole</span></li>\n</ul>\n<span class="x193iq5w xeuugli x13faqbe x1vvkbs x1xmvt09 x1lliihq x1s928wv xhkezso x1gmr53x x1cpjm7i x1fgarty x1943h6x xudqn12 x3x7a5m x6prxxf xvq8zen xo1l8bm xzsf02u x1yc453h" dir="auto">Stay tuned for more awesome things coming!</span></div>\n</div>\n</div>\n</div>\n</div>\n</div>\n\n<p>&nbsp\;</p>\n
LOCATION:Wyoming Life Resource Center 8204 Hwy 789 Lander\, WY 82520
UID:e.1258.30728
SEQUENCE:3
DTSTAMP:20260420T062703Z
URL:http://info.landerchamber.org/events/details/wyoming-life-resource-center-fall-festival-2023-30728
END:VEVENT

END:VCALENDAR
