BEGIN:VCALENDAR
VERSION:2.0
PRODID:-//ChamberMaster//Event Calendar 2.0//EN
METHOD:PUBLISH
X-PUBLISHED-TTL:P3D
REFRESH-INTERVAL:P3D
CALSCALE:GREGORIAN
BEGIN:VEVENT
DTSTART:20230721T140000Z
DTEND:20230721T230000Z
X-MICROSOFT-CDO-ALLDAYEVENT:FALSE
SUMMARY:Wyoming Legislature State Building Commission
DESCRIPTION:Time and location are TBD. Click the agenda and meeting materials link for further information.
X-ALT-DESC;FMTTYPE=text/html:Time and location are TBD. Click the agenda and meeting materials link for further information.&nbsp\;
LOCATION:Capitol Extension Auditorium
UID:e.1258.30669
SEQUENCE:3
DTSTAMP:20260420T103626Z
URL:http://info.landerchamber.org/events/details/wyoming-legislature-state-building-commission-30669
END:VEVENT

END:VCALENDAR
