BEGIN:VCALENDAR
VERSION:2.0
PRODID:-//ChamberMaster//Event Calendar 2.0//EN
METHOD:PUBLISH
X-PUBLISHED-TTL:P3D
REFRESH-INTERVAL:P3D
CALSCALE:GREGORIAN
BEGIN:VEVENT
DTSTART:20230713T190000Z
DTEND:20230713T230000Z
X-MICROSOFT-CDO-ALLDAYEVENT:FALSE
SUMMARY:Wyoming Legislature Joint Subcommittee on Legislator Ethics Complaint Procedure
DESCRIPTION:The purpose of this meeting is to discuss Joint Rule 22-1.\n\n\n\nIndividuals who plan to provide materials to the Committee during the meeting should provide the materials in electronic format to Committee staff and provide sufficient hard copies for members of the Committee\, Committee staff and interested members of the audience. Hard copies should be on three hole paper.\n\n\n\nAll materials provided to the Committee in written form will be part of the official record of the Committee's meeting and will be on file at the Legislative Service Office.\n\n\n\nPersons with disabilities requiring special accommodations to attend this meeting should contact the Legislative Service Office at: (307) 777-7881\, or by e-mail at: lso@wyoleg.gov\, for assistance.\n\n\n\nMembers of the Subcommittee on Legislator Ethics Complaint Procedure\n\nSenators: Eric Barlow\, Tara Nethercott\, Chris Rothfuss\n\n\n\nRepresentatives: Clark Stith\, Mike Yin\, Dan Zwonitzer
X-ALT-DESC;FMTTYPE=text/html:The purpose of this meeting is to discuss Joint Rule 22-1.<br />\n<br />\nIndividuals who plan to provide materials to the Committee during the meeting should provide the materials in electronic format to Committee staff and provide sufficient hard copies for members of the Committee\, Committee staff and interested members of the audience. Hard copies should be on three hole paper.<br />\n<br />\nAll materials provided to the Committee in written form will be part of the official record of the Committee&rsquo\;s meeting and will be on file at the Legislative Service Office.<br />\n<br />\nPersons with disabilities requiring special accommodations to attend this meeting should contact the Legislative Service Office at: (307) 777-7881\, or by e-mail at: lso@wyoleg.gov\, for assistance.<br />\n<br />\nMembers of the Subcommittee on Legislator Ethics Complaint Procedure<br />\nSenators: Eric Barlow\, Tara Nethercott\, Chris Rothfuss<br />\n<br />\nRepresentatives: Clark Stith\, Mike Yin\, Dan Zwonitzer
LOCATION:Online Only Livestream available on the Legislature's website
UID:e.1258.30663
SEQUENCE:3
DTSTAMP:20260420T103657Z
URL:http://info.landerchamber.org/events/details/wyoming-legislature-joint-subcommittee-on-legislator-ethics-complaint-procedure-30663
END:VEVENT

END:VCALENDAR
