BEGIN:VCALENDAR
VERSION:2.0
PRODID:-//ChamberMaster//Event Calendar 2.0//EN
METHOD:PUBLISH
X-PUBLISHED-TTL:P3D
REFRESH-INTERVAL:P3D
CALSCALE:GREGORIAN
BEGIN:VEVENT
DTSTART:20230717T143000Z
DTEND:20230717T230000Z
X-MICROSOFT-CDO-ALLDAYEVENT:FALSE
SUMMARY:Wyoming Legislature Joint Riverton State Office Task Force
DESCRIPTION:The purpose of this meeting is to receive an update on information collected regarding preliminary inputs for level I/II studies\, status of work\, and develop and communications\, updates\, or recommendations on the status of the work of the Task Force to the State Building Commission.\n\n\n\nIndividuals who plan to provide materials to the Committee during the meeting should provide the materials in electronic format to Committee staff and provide sufficient hard copies for members of the Committee\, Committee staff and interested members of the audience. Hard copies should be on three hole paper.\n\n\n\nAll materials provided to the Committee in written form will be part of the official record of the Committee's meeting and will be on file at the Legislative Service Office.\n\n\n\nPersons with disabilities requiring special accommodations to attend this meeting should contact the Legislative Service Office at: (307) 777-7881\, or by e-mail at: lso@wyoleg.gov\, for assistance.\n\n\n\nMembers of the Riverton State Office Task Force\n\nSenators: Ogden Driskill\, Larry Hicks\, Tim Salazar\n\n\n\nRepresentatives: Lloyd Larsen\, Bob Nicholas\, Ember Oakley\n\n\n\nAdditional members: Director of State Construction Dept. (or designee)\; State Engineer's office designee\; Dept. of Family Services designee\; Dept. of Corrections designee\; Attorney General's office designee
X-ALT-DESC;FMTTYPE=text/html:The purpose of this meeting is to receive an update on information collected regarding preliminary inputs for level I/II studies\, status of work\, and develop and communications\, updates\, or recommendations on the status of the work of the Task Force to the State Building Commission.<br />\n<br />\nIndividuals who plan to provide materials to the Committee during the meeting should provide the materials in electronic format to Committee staff and provide sufficient hard copies for members of the Committee\, Committee staff and interested members of the audience. Hard copies should be on three hole paper.<br />\n<br />\nAll materials provided to the Committee in written form will be part of the official record of the Committee&rsquo\;s meeting and will be on file at the Legislative Service Office.<br />\n<br />\nPersons with disabilities requiring special accommodations to attend this meeting should contact the Legislative Service Office at: (307) 777-7881\, or by e-mail at: lso@wyoleg.gov\, for assistance.<br />\n<br />\nMembers of the Riverton State Office Task Force<br />\nSenators: Ogden Driskill\, Larry Hicks\, Tim Salazar<br />\n<br />\nRepresentatives: Lloyd Larsen\, Bob Nicholas\, Ember Oakley<br />\n<br />\nAdditional members: Director of State Construction Dept. (or designee)\; State Engineer&#39\;s office designee\; Dept. of Family Services designee\; Dept. of Corrections designee\; Attorney General&#39\;s office designee
LOCATION:Wyoming State Capitol\, W110 200 West 24th Street Cheyenne\, Wyoming Livestream available on the Legislature's website
UID:e.1258.30665
SEQUENCE:3
DTSTAMP:20260420T103053Z
URL:http://info.landerchamber.org/events/details/wyoming-legislature-joint-riverton-state-office-task-force-30665
END:VEVENT

END:VCALENDAR
