BEGIN:VCALENDAR
VERSION:2.0
PRODID:-//ChamberMaster//Event Calendar 2.0//EN
METHOD:PUBLISH
X-PUBLISHED-TTL:P3D
REFRESH-INTERVAL:P3D
CALSCALE:GREGORIAN
BEGIN:VEVENT
DTSTART:20230727T140000Z
DTEND:20230727T230000Z
X-MICROSOFT-CDO-ALLDAYEVENT:FALSE
SUMMARY:Wyoming Legislature Joint Riverton State Office Task Force
DESCRIPTION:This is a tentative meeting notice. A formal meeting notice will be posted at a later date.\n\n\n\nMembers of the Riverton State Office Task Force\n\nSenators: Ogden Driskill\, Larry Hicks\, Tim Salazar\n\n\n\nRepresentatives: Lloyd Larsen\, Bob Nicholas\, Ember Oakley\n\n\n\nAdditional members: Director of State Construction Dept. (or designee)\; State Engineer's office designee\; Dept. of Family Services designee\; Dept. of Corrections designee\; Attorney General's office designee
X-ALT-DESC;FMTTYPE=text/html:This is a tentative meeting notice. A formal meeting notice will be posted at a later date.<br />\n<br />\nMembers of the Riverton State Office Task Force<br />\nSenators: Ogden Driskill\, Larry Hicks\, Tim Salazar<br />\n<br />\nRepresentatives: Lloyd Larsen\, Bob Nicholas\, Ember Oakley<br />\n<br />\nAdditional members: Director of State Construction Dept. (or designee)\; State Engineer&#39\;s office designee\; Dept. of Family Services designee\; Dept. of Corrections designee\; Attorney General&#39\;s office designee
LOCATION:Wyoming State Capitol\, E301 200 West 24th Street Cheyenne\, Wyoming Livestream available on the Legislature's website
UID:e.1258.30668
SEQUENCE:3
DTSTAMP:20260420T103314Z
URL:http://info.landerchamber.org/events/details/wyoming-legislature-joint-riverton-state-office-task-force-07-27-2023-30668
END:VEVENT

END:VCALENDAR
