BEGIN:VCALENDAR
VERSION:2.0
PRODID:-//ChamberMaster//Event Calendar 2.0//EN
METHOD:PUBLISH
X-PUBLISHED-TTL:P3D
REFRESH-INTERVAL:P3D
CALSCALE:GREGORIAN
BEGIN:VEVENT
DTSTART:20230808T143000Z
DTEND:20230809T230000Z
X-MICROSOFT-CDO-ALLDAYEVENT:FALSE
SUMMARY:Wyoming Legislature Joint Education
DESCRIPTION:The purpose of this meeting is to receive additional information regarding W.S. 21-3-401\, reading assessment and intervention\; early childhood programs\; the Wyoming Department of Educaiton's Teacher Retention and Recruitment Task Force\; and the Wyoming community college system. The Committee will also discuss draft legislation\; the implementation of 2023 Wyoming Session Laws\, Chapter 179\, Wyoming charter school authorizing board\; and school finance recalibration.\n\nThe Chairmen have requested individuals who plan to address the Committee during the public comment portion of each agenda item and wish to provide testimony in excess of five minutes or have a presentation to accompany their testimony\, should advise the Chairmen and LSO prior to the meeting so the Chairmen can plan accordingly.\n\n\n\nIndividuals who plan to provide materials to the Committee during the meeting should provide the materials in electronic format to Committee staff and provide sufficient hard copies for members of the Committee\, Committee staff and interested members of the audience. Hard copies should be on three hole paper.\n\n\n\nAll materials provided to the Committee in written form will be part of the official record of the Committee's meeting and will be on file at the Legislative Service Office.\n\n\n\nPersons with disabilities requiring special accommodations to attend this meeting should contact the Legislative Service Office at: (307) 777-7881\, or by e-mail at: lso@wyoleg.gov\, for assistance.\n\n\n\nMembers of the Joint Education Committee\n\nSenators: Bo Biteman\, Evie Brennan\, Chris Rothfuss\, Charles Scott\, Cheri Steinmetz\n\n\n\nRepresentatives: Lane Allred\, Ocean Andrew\, Ryan Berger\, Landon Brown\, Ken Clouston\, Martha Lawley\, David Northrup\, Jerry Obermueller\, Karlee Provenza
X-ALT-DESC;FMTTYPE=text/html:The purpose of this meeting is to receive additional information regarding W.S. 21-3-401\, reading assessment and intervention\; early childhood programs\; the Wyoming Department of Educaiton&#39\;s Teacher Retention and Recruitment Task Force\; and the Wyoming community college system. The Committee will also discuss draft legislation\; the implementation of 2023 Wyoming Session Laws\, Chapter 179\, Wyoming charter school authorizing board\; and school finance recalibration.<br />\nThe Chairmen have requested individuals who plan to address the Committee during the public comment portion of each agenda item and wish to provide testimony in excess of five minutes or have a presentation to accompany their testimony\, should advise the Chairmen and LSO prior to the meeting so the Chairmen can plan accordingly.<br />\n<br />\nIndividuals who plan to provide materials to the Committee during the meeting should provide the materials in electronic format to Committee staff and provide sufficient hard copies for members of the Committee\, Committee staff and interested members of the audience. Hard copies should be on three hole paper.<br />\n<br />\nAll materials provided to the Committee in written form will be part of the official record of the Committee&rsquo\;s meeting and will be on file at the Legislative Service Office.<br />\n<br />\nPersons with disabilities requiring special accommodations to attend this meeting should contact the Legislative Service Office at: (307) 777-7881\, or by e-mail at: lso@wyoleg.gov\, for assistance.<br />\n<br />\nMembers of the Joint Education Committee<br />\nSenators: Bo Biteman\, Evie Brennan\, Chris Rothfuss\, Charles Scott\, Cheri Steinmetz<br />\n<br />\nRepresentatives: Lane Allred\, Ocean Andrew\, Ryan Berger\, Landon Brown\, Ken Clouston\, Martha Lawley\, David Northrup\, Jerry Obermueller\, Karlee Provenza
LOCATION:Wyoming State Capitol\, W110 200 West 24th Street Cheyenne\, Wyoming Livestream available on the Legislature's website
UID:e.1258.30674
SEQUENCE:3
DTSTAMP:20260420T091634Z
URL:http://info.landerchamber.org/events/details/wyoming-legislature-joint-education-30674
END:VEVENT

END:VCALENDAR
