BEGIN:VCALENDAR
VERSION:2.0
PRODID:-//ChamberMaster//Event Calendar 2.0//EN
METHOD:PUBLISH
X-PUBLISHED-TTL:P3D
REFRESH-INTERVAL:P3D
CALSCALE:GREGORIAN
BEGIN:VEVENT
DTSTART:20240111T153000Z
DTEND:20240112T000000Z
X-MICROSOFT-CDO-ALLDAYEVENT:FALSE
SUMMARY:Wyoming Legislature Joint 2024 Select Water Committee
DESCRIPTION:This is a tentative meeting notice. A formal meeting notice will be posted at a later date.\n\n\n\nMembers of the Select Water Committee\n\nSenators: Affie Ellis\, Mike Gierau\, Larry Hicks\, John Kolb\, Dan Laursen\, Cheri Steinmetz\n\n\n\nRepresentatives: Jon Conrad\, Barry Crago\, John Eklund\, J.T. Larson\, Chip Neiman\, Albert Sommers\, Mike Yin
X-ALT-DESC;FMTTYPE=text/html:This is a tentative meeting notice. A formal meeting notice will be posted at a later date.<br />\n<br />\nMembers of the Select Water Committee<br />\nSenators: Affie Ellis\, Mike Gierau\, Larry Hicks\, John Kolb\, Dan Laursen\, Cheri Steinmetz<br />\n<br />\nRepresentatives: Jon Conrad\, Barry Crago\, John Eklund\, J.T. Larson\, Chip Neiman\, Albert Sommers\, Mike Yin
LOCATION:Capitol Extension\, E005 200 W. 24th Street Cheyenne\, Wyoming Livestream available on the Legislature's website
UID:e.1258.30975
SEQUENCE:3
DTSTAMP:20260420T004836Z
URL:http://info.landerchamber.org/events/details/wyoming-legislature-joint-2024-select-water-committee-30975
END:VEVENT

END:VCALENDAR
