BEGIN:VCALENDAR
VERSION:2.0
PRODID:-//ChamberMaster//Event Calendar 2.0//EN
METHOD:PUBLISH
X-PUBLISHED-TTL:P3D
REFRESH-INTERVAL:P3D
CALSCALE:GREGORIAN
BEGIN:VEVENT
DTSTART:20240112T153000Z
DTEND:20240113T000000Z
X-MICROSOFT-CDO-ALLDAYEVENT:FALSE
SUMMARY:Wyoming Legislature Joint 2024 Select Natural Resource Funding Committee
DESCRIPTION:The purpose of this meeting is to review and consider the 2024 Large Project Bill and receive an update on the work of the Wyoming Wildlife and Natural Resource Trust.\n\n\n\nIndividuals who plan to provide materials to the Committee during the meeting should provide the materials in electronic format to Committee staff and provide sufficient hard copies for members of the Committee\, Committee staff and interested members of the audience. Hard copies should be on three hole paper.\n\n\n\nAll materials provided to the Committee in written form will be part of the official record of the Committee's meeting and will be on file at the Legislative Service Office.\n\n\n\nPersons with disabilities requiring special accommodations to attend this meeting should contact the Legislative Service Office at: (307) 777-7881\, or by e-mail at: lso@wyoleg.gov\, for assistance.\n\n\n\nMembers of the Select Natural Resource Funding Committee\n\nSenators: Ed Cooper\, Mike Gierau\, Bill Landen\n\n\n\nRepresentatives: Andrew Byron\, Barry Crago\, Karlee Provenza
X-ALT-DESC;FMTTYPE=text/html:The purpose of this meeting is to review and consider the 2024 Large Project Bill and receive an update on the work of the Wyoming Wildlife and Natural Resource Trust.<br />\n<br />\nIndividuals who plan to provide materials to the Committee during the meeting should provide the materials in electronic format to Committee staff and provide sufficient hard copies for members of the Committee\, Committee staff and interested members of the audience. Hard copies should be on three hole paper.<br />\n<br />\nAll materials provided to the Committee in written form will be part of the official record of the Committee&rsquo\;s meeting and will be on file at the Legislative Service Office.<br />\n<br />\nPersons with disabilities requiring special accommodations to attend this meeting should contact the Legislative Service Office at: (307) 777-7881\, or by e-mail at: lso@wyoleg.gov\, for assistance.<br />\n<br />\nMembers of the Select Natural Resource Funding Committee<br />\nSenators: Ed Cooper\, Mike Gierau\, Bill Landen<br />\n<br />\nRepresentatives: Andrew Byron\, Barry Crago\, Karlee Provenza
LOCATION:Wyoming State Capitol\, W110 200 West 24th Street Cheyenne\, Wyoming Livestream available on the Legislature's website at www.wyoleg.gov Livestream available on the Legislature's website
UID:e.1258.30976
SEQUENCE:3
DTSTAMP:20260420T005020Z
URL:http://info.landerchamber.org/events/details/wyoming-legislature-joint-2024-select-natural-resource-funding-committee-30976
END:VEVENT

END:VCALENDAR
