BEGIN:VCALENDAR
VERSION:2.0
PRODID:-//ChamberMaster//Event Calendar 2.0//EN
METHOD:PUBLISH
X-PUBLISHED-TTL:P3D
REFRESH-INTERVAL:P3D
CALSCALE:GREGORIAN
BEGIN:VEVENT
DTSTART:20240108T150000Z
DTEND:20240113T000000Z
X-MICROSOFT-CDO-ALLDAYEVENT:FALSE
SUMMARY:Wyoming Legislature Joint 2024 Appropriations
DESCRIPTION:The purpose of this meeting is to hold budget hearings for\, and development of\, the 2025-2026 Budget. The Committee is also scheduled to review legislation on interim topics\, as necessary.\n\n\n\nThese meetings will be held in-person in Cheyenne at the State Capitol\, in E301\, and remotely with a live video stream available on the Legislature's Website www.wyoleg.gov. A limited number of participants may sign up to provide public comment virtually for a specified agenda item during the Committee's upcoming meeting. The total amount of time dedicated to virtual public comment is set by the Committee Chairmen per Management Council Policy. Please fill out the public comment form to ensure the Committee knows you intend to provide public comment virtually. Only those that fill out the form to provide public comments virtually and who are e-mailed the Zoom invite from the Legislative Service Office will be permitted into the Zoom meeting to testify.\n\n\n\nIndividuals who plan to provide materials to the Committee during the meeting should provide the materials in electronic format to Committee staff and provide sufficient hard copies for members of the Committee\, Committee staff and interested members of the audience. Hard copies should be on three hole paper.\n\n\n\nAll materials provided to the Committee in written form will be part of the official record of the Committee's meeting and will be on file at the Legislative Service Office.\n\n\n\nPersons with disabilities requiring special accommodations to attend this meeting should contact the Legislative Service Office at: (307) 777-7881\, or by e-mail at: lso@wyoleg.gov\, for assistance.\n\n\n\nMembers of the Joint Appropriations Committee\n\nSenators: Jim Anderson\, Mike Gierau\, Dave Kinskey\, Tara Nethercott\, Tim Salazar\n\n\n\nRepresentatives: Bill Henderson\, Lloyd Larsen\, Bob Nicholas\, Trey Sherwood\, Clark Stith\, Tom Walters\, David Zwonitzer
X-ALT-DESC;FMTTYPE=text/html:The purpose of this meeting is to hold budget hearings for\, and development of\, the 2025-2026 Budget. The Committee is also scheduled to review legislation on interim topics\, as necessary.<br />\n<br />\nThese meetings will be held in-person in Cheyenne at the State Capitol\, in E301\, and remotely with a live video stream available on the Legislature&#39\;s Website www.wyoleg.gov. A limited number of participants may sign up to provide public comment virtually for a specified agenda item during the Committee&#39\;s upcoming meeting. The total amount of time dedicated to virtual public comment is set by the Committee Chairmen per Management Council Policy. Please fill out the public comment form to ensure the Committee knows you intend to provide public comment virtually. Only those that fill out the form to provide public comments virtually and who are e-mailed the Zoom invite from the Legislative Service Office will be permitted into the Zoom meeting to testify.<br />\n<br />\nIndividuals who plan to provide materials to the Committee during the meeting should provide the materials in electronic format to Committee staff and provide sufficient hard copies for members of the Committee\, Committee staff and interested members of the audience. Hard copies should be on three hole paper.<br />\n<br />\nAll materials provided to the Committee in written form will be part of the official record of the Committee&rsquo\;s meeting and will be on file at the Legislative Service Office.<br />\n<br />\nPersons with disabilities requiring special accommodations to attend this meeting should contact the Legislative Service Office at: (307) 777-7881\, or by e-mail at: lso@wyoleg.gov\, for assistance.<br />\n<br />\nMembers of the Joint Appropriations Committee<br />\nSenators: Jim Anderson\, Mike Gierau\, Dave Kinskey\, Tara Nethercott\, Tim Salazar<br />\n<br />\nRepresentatives: Bill Henderson\, Lloyd Larsen\, Bob Nicholas\, Trey Sherwood\, Clark Stith\, Tom Walters\, David Zwonitzer
LOCATION:Wyoming State Capitol\, E301 200 West 24th Street Cheyenne\, Wyoming Livestream available on the Legislature's website
UID:e.1258.30974
SEQUENCE:3
DTSTAMP:20260420T004723Z
URL:http://info.landerchamber.org/events/details/wyoming-legislature-joint-2024-appropriations-30974
END:VEVENT

END:VCALENDAR
