BEGIN:VCALENDAR
VERSION:2.0
PRODID:-//ChamberMaster//Event Calendar 2.0//EN
METHOD:PUBLISH
X-PUBLISHED-TTL:P3D
REFRESH-INTERVAL:P3D
CALSCALE:GREGORIAN
BEGIN:VEVENT
DTSTART:20230831T143000Z
DTEND:20230901T230000Z
X-MICROSOFT-CDO-ALLDAYEVENT:FALSE
SUMMARY:Wyoming Legislature Joint 2023 Transportation\, Highways & Military Affairs
DESCRIPTION:This is a tentative meeting notice. A formal meeting notice will be posted at a later date.\n\n\n\nMembers of the Joint Transportation\, Highways & Military Affairs Committee\n\nSenators: Brian Boner\, Evie Brennan\, Dan Furphy\, John Kolb\, Stephan Pappas\n\n\n\nRepresentatives: Ryan Berger\, Landon Brown\, Tony Niemiec \, Jerry Obermueller\, Kevin O'Hearn\, Ken Pendergraft\, Scott Smith\, Clarence Styvar\, Cody Wylie
X-ALT-DESC;FMTTYPE=text/html:This is a tentative meeting notice. A formal meeting notice will be posted at a later date.<br />\n<br />\nMembers of the Joint Transportation\, Highways &amp\; Military Affairs Committee<br />\nSenators: Brian Boner\, Evie Brennan\, Dan Furphy\, John Kolb\, Stephan Pappas<br />\n<br />\nRepresentatives: Ryan Berger\, Landon Brown\, Tony Niemiec \, Jerry Obermueller\, Kevin O&#39\;Hearn\, Ken Pendergraft\, Scott Smith\, Clarence Styvar\, Cody Wylie
LOCATION:Casper\, Wyoming Livestream available on the Legislature's website
UID:e.1258.30684
SEQUENCE:3
DTSTAMP:20260420T092140Z
URL:http://info.landerchamber.org/events/details/wyoming-legislature-joint-2023-transportation-highways-military-affairs-30684
END:VEVENT

END:VCALENDAR
