BEGIN:VCALENDAR
VERSION:2.0
PRODID:-//ChamberMaster//Event Calendar 2.0//EN
METHOD:PUBLISH
X-PUBLISHED-TTL:P3D
REFRESH-INTERVAL:P3D
CALSCALE:GREGORIAN
BEGIN:VEVENT
DTSTART:20231020T150000Z
DTEND:20231020T230000Z
X-MICROSOFT-CDO-ALLDAYEVENT:FALSE
SUMMARY:Wyoming Legislature Joint 2023 State Shooting Complex Oversight Task Force
DESCRIPTION:The purpose of this meeting is to review and approve the Task Force's Community Readiness Pre-proposal qualifications.\n\n\n\nThe meeting will be held remotely with a live video stream available on the Legislature's Website\, www.wyoleg.gov. As opportunity for public comment was provided previously\, there will be no additional public comment during this meeting.\n\n\n\nIndividuals who plan to provide materials to the Committee during the meeting should provide the materials in electronic format to Committee staff and provide sufficient hard copies for members of the Committee\, Committee staff and interested members of the audience. Hard copies should be on three hole paper.\n\n\n\nAll materials provided to the Committee in written form will be part of the official record of the Committee's meeting and will be on file at the Legislative Service Office.\n\n\n\nPersons with disabilities requiring special accommodations to attend this meeting should contact the Legislative Service Office at: (307) 777-7881\, or by e-mail at: lso@wyoleg.gov\, for assistance.\n\n\n\nMembers of the State Shooting Complex Oversight Task Force\n\nSenators: Larry Hicks\, John Kolb\n\n\n\nRepresentatives: Pepper Ottman\, Art Washut\n\n\n\nAdditional members: Governor (or designee)\; Wyoming Game & Fish Director (or designee)\; State Parks & Cultural Resources Director (or designee)\; Director of Tourism (or designee)\; 2 members of firearm archery or firearm manufacturing companies appointed by Governor\; 1 member of the public representing a shooting sport organization appointed by Governor\; 1 member of the public representing hunting or wildlife conservation organization appointed by Governor.
X-ALT-DESC;FMTTYPE=text/html:The purpose of this meeting is to review and approve the Task Force&#39\;s Community Readiness Pre-proposal qualifications.<br />\n<br />\nThe meeting will be held remotely with a live video stream available on the Legislature&#39\;s Website\, www.wyoleg.gov. As opportunity for public comment was provided previously\, there will be no additional public comment during this meeting.<br />\n<br />\nIndividuals who plan to provide materials to the Committee during the meeting should provide the materials in electronic format to Committee staff and provide sufficient hard copies for members of the Committee\, Committee staff and interested members of the audience. Hard copies should be on three hole paper.<br />\n<br />\nAll materials provided to the Committee in written form will be part of the official record of the Committee&rsquo\;s meeting and will be on file at the Legislative Service Office.<br />\n<br />\nPersons with disabilities requiring special accommodations to attend this meeting should contact the Legislative Service Office at: (307) 777-7881\, or by e-mail at: lso@wyoleg.gov\, for assistance.<br />\n<br />\nMembers of the State Shooting Complex Oversight Task Force<br />\nSenators: Larry Hicks\, John Kolb<br />\n<br />\nRepresentatives: Pepper Ottman\, Art Washut<br />\n<br />\nAdditional members: Governor (or designee)\; Wyoming Game &amp\; Fish Director (or designee)\; State Parks &amp\; Cultural Resources Director (or designee)\; Director of Tourism (or designee)\; 2 members of firearm archery or firearm manufacturing companies appointed by Governor\; 1 member of the public representing a shooting sport organization appointed by Governor\; 1 member of the public representing hunting or wildlife conservation organization appointed by Governor.
LOCATION:Online\, Wyoming Livestream available on the Legislature's website
UID:e.1258.30899
SEQUENCE:3
DTSTAMP:20260420T050136Z
URL:http://info.landerchamber.org/events/details/wyoming-legislature-joint-2023-state-shooting-complex-oversight-task-force-30899
END:VEVENT

END:VCALENDAR
