BEGIN:VCALENDAR
VERSION:2.0
PRODID:-//ChamberMaster//Event Calendar 2.0//EN
METHOD:PUBLISH
X-PUBLISHED-TTL:P3D
REFRESH-INTERVAL:P3D
CALSCALE:GREGORIAN
BEGIN:VEVENT
DTSTART:20230927T143000Z
DTEND:20230927T230000Z
X-MICROSOFT-CDO-ALLDAYEVENT:FALSE
SUMMARY:Wyoming Legislature Joint 2023 State Shooting Complex Oversight Task Force
DESCRIPTION:The purpose of this meeting is to review the results of the online public survey and discuss criteria for scoring site proposals for a State Shooting Complex.\n\n\n\nThe meeting will be held in person in Riverton and remotely with a live video stream available on the Legislature's Website (www.wyoleg.gov). A limited number of participants can sign up to provide public comment virtually for a specified agenda item during the Committee's upcoming meeting. The total amount of time dedicated to virtual public comment is set by the Committee Chairmen per Management Council Policy. Please fill out the public comment form to ensure the Committee knows you intend to provide public comment virtually. Only those that fill out the form to provide public comments virtually and who are e-mailed the Zoom invite from the Legislative Service Office will be permitted into the Zoom meeting to testify.\n\n\n\nIndividuals who plan to provide materials to the Committee during the meeting should provide the materials in electronic format to Committee staff and provide sufficient hard copies for members of the Committee\, Committee staff and interested members of the audience. Hard copies should be on three hole paper.\n\n\n\nAll materials provided to the Committee in written form will be part of the official record of the Committee's meeting and will be on file at the Legislative Service Office.\n\n\n\nPersons with disabilities requiring special accommodations to attend this meeting should contact the Legislative Service Office at: (307) 777-7881\, or by e-mail at: lso@wyoleg.gov\, for assistance.\n\n\n\nMembers of the State Shooting Complex Oversight Task Force\n\nSenators: Larry Hicks\, John Kolb\n\n\n\nRepresentatives: Pepper Ottman\, Art Washut\n\n\n\nAdditional members: Governor (or designee)\; Wyoming Game & Fish Director (or designee)\; State Parks & Cultural Resources Director (or designee)\; Director of Tourism (or designee)\; 2 members of firearm archery or firearm manufacturing companies appointed by Governor\; 1 member of the public representing a shooting sport organization appointed by Governor\; 1 member of the public representing hunting or wildlife conservation organization appointed by Governor
X-ALT-DESC;FMTTYPE=text/html:The purpose of this meeting is to review the results of the online public survey and discuss criteria for scoring site proposals for a State Shooting Complex.<br />\n<br />\nThe meeting will be held in person in Riverton and remotely with a live video stream available on the Legislature&#39\;s Website (www.wyoleg.gov). A limited number of participants can sign up to provide public comment virtually for a specified agenda item during the Committee&#39\;s upcoming meeting. The total amount of time dedicated to virtual public comment is set by the Committee Chairmen per Management Council Policy. Please fill out the public comment form to ensure the Committee knows you intend to provide public comment virtually. Only those that fill out the form to provide public comments virtually and who are e-mailed the Zoom invite from the Legislative Service Office will be permitted into the Zoom meeting to testify.<br />\n<br />\nIndividuals who plan to provide materials to the Committee during the meeting should provide the materials in electronic format to Committee staff and provide sufficient hard copies for members of the Committee\, Committee staff and interested members of the audience. Hard copies should be on three hole paper.<br />\n<br />\nAll materials provided to the Committee in written form will be part of the official record of the Committee&rsquo\;s meeting and will be on file at the Legislative Service Office.<br />\n<br />\nPersons with disabilities requiring special accommodations to attend this meeting should contact the Legislative Service Office at: (307) 777-7881\, or by e-mail at: lso@wyoleg.gov\, for assistance.<br />\n<br />\nMembers of the State Shooting Complex Oversight Task Force<br />\nSenators: Larry Hicks\, John Kolb<br />\n<br />\nRepresentatives: Pepper Ottman\, Art Washut<br />\n<br />\nAdditional members: Governor (or designee)\; Wyoming Game &amp\; Fish Director (or designee)\; State Parks &amp\; Cultural Resources Director (or designee)\; Director of Tourism (or designee)\; 2 members of firearm archery or firearm manufacturing companies appointed by Governor\; 1 member of the public representing a shooting sport organization appointed by Governor\; 1 member of the public representing hunting or wildlife conservation organization appointed by Governor
LOCATION:Central Wyoming College\, Intertribal Education and Community Center\, Room 125 2860 W Main St Riverton\, Wyoming Livestream available on the Legislature's website
UID:e.1258.30719
SEQUENCE:3
DTSTAMP:20260420T075940Z
URL:http://info.landerchamber.org/events/details/wyoming-legislature-joint-2023-state-shooting-complex-oversight-task-force-30719
END:VEVENT

END:VCALENDAR
