BEGIN:VCALENDAR
VERSION:2.0
PRODID:-//ChamberMaster//Event Calendar 2.0//EN
METHOD:PUBLISH
X-PUBLISHED-TTL:P3D
REFRESH-INTERVAL:P3D
CALSCALE:GREGORIAN
BEGIN:VEVENT
DTSTART:20230815T193000Z
DTEND:20230817T230000Z
X-MICROSOFT-CDO-ALLDAYEVENT:FALSE
SUMMARY:Wyoming Legislature Joint 2023 Select Water Committee
DESCRIPTION:The purpose of this meeting is to consider Select Water Committee interim topics\, including the Wyoming one-fill rule and water banking (Tues\, Aug. 15)\, tour area water projects (Wed\, Aug. 16)\, and convene a joint meeting of the Select Water Committee and Water Development Commission (Thurs\, Aug. 17) to review water project applications\, amendments and contracts\; receive project updates\; and schedule future meetings.\n\nA live video stream of the August 15 Select Water Committee meeting and August 17 Joint SWC/WWDC meeting will be available on the Legislature's Website www.wyoleg.gov. A limited number of participants can sign up to provide public comment virtually for a specified agenda item during the Committee's upcoming meeting. The total amount of time dedicated to virtual public comment is set by the Committee Chairmen per Management Council Policy. Please fill out the public comment form to ensure the Committee knows you intend to provide public comment virtually. Only those who fill out the form to provide public comments virtually and who are e-mailed the Zoom invite from the Legislative Service Office will be permitted to testify.\n\n\n\nIndividuals who plan to provide materials to the Committee during the meeting should provide the materials in electronic format to Committee staff and provide sufficient hard copies for members of the Committee\, Committee staff and interested members of the audience. Hard copies should be on three hole paper.\n\n\n\nAll materials provided to the Committee in written form will be part of the official record of the Committee's meeting and will be on file at the Legislative Service Office.\n\n\n\nPersons with disabilities requiring special accommodations to attend this meeting should contact the Legislative Service Office at: (307) 777-7881\, or by e-mail at: lso@wyoleg.gov\, for assistance.\n\n\n\nMembers of the Select Water Committee\n\nSenators: Affie Ellis\, Mike Gierau\, Larry Hicks\, John Kolb\, Dan Laursen\, Cheri Steinmetz\n\n\n\nRepresentatives: Jon Conrad\, John Eklund\, J.T. Larson\, Chip Neiman\, Albert Sommers\, Mike Yin
X-ALT-DESC;FMTTYPE=text/html:The purpose of this meeting is to consider Select Water Committee interim topics\, including the Wyoming one-fill rule and water banking (Tues\, Aug. 15)\, tour area water projects (Wed\, Aug. 16)\, and convene a joint meeting of the Select Water Committee and Water Development Commission (Thurs\, Aug. 17) to review water project applications\, amendments and contracts\; receive project updates\; and schedule future meetings.<br />\nA live video stream of the August 15 Select Water Committee meeting and August 17 Joint SWC/WWDC meeting will be available on the Legislature&#39\;s Website www.wyoleg.gov. A limited number of participants can sign up to provide public comment virtually for a specified agenda item during the Committee&#39\;s upcoming meeting. The total amount of time dedicated to virtual public comment is set by the Committee Chairmen per Management Council Policy. Please fill out the public comment form to ensure the Committee knows you intend to provide public comment virtually. Only those who fill out the form to provide public comments virtually and who are e-mailed the Zoom invite from the Legislative Service Office will be permitted to testify.<br />\n<br />\nIndividuals who plan to provide materials to the Committee during the meeting should provide the materials in electronic format to Committee staff and provide sufficient hard copies for members of the Committee\, Committee staff and interested members of the audience. Hard copies should be on three hole paper.<br />\n<br />\nAll materials provided to the Committee in written form will be part of the official record of the Committee&rsquo\;s meeting and will be on file at the Legislative Service Office.<br />\n<br />\nPersons with disabilities requiring special accommodations to attend this meeting should contact the Legislative Service Office at: (307) 777-7881\, or by e-mail at: lso@wyoleg.gov\, for assistance.<br />\n<br />\nMembers of the Select Water Committee<br />\nSenators: Affie Ellis\, Mike Gierau\, Larry Hicks\, John Kolb\, Dan Laursen\, Cheri Steinmetz<br />\n<br />\nRepresentatives: Jon Conrad\, John Eklund\, J.T. Larson\, Chip Neiman\, Albert Sommers\, Mike Yin
LOCATION:Wyoming Game & Fish--Cody Regional Office 2 Tilden Trail Cody\, Wyoming Livestream available on the Legislature's website
UID:e.1258.30679
SEQUENCE:3
DTSTAMP:20260420T091828Z
URL:http://info.landerchamber.org/events/details/wyoming-legislature-joint-2023-select-water-committee-30679
END:VEVENT

END:VCALENDAR
