BEGIN:VCALENDAR
VERSION:2.0
PRODID:-//ChamberMaster//Event Calendar 2.0//EN
METHOD:PUBLISH
X-PUBLISHED-TTL:P3D
REFRESH-INTERVAL:P3D
CALSCALE:GREGORIAN
BEGIN:VEVENT
DTSTART:20231024T143000Z
DTEND:20231024T230000Z
X-MICROSOFT-CDO-ALLDAYEVENT:FALSE
SUMMARY:Wyoming Legislature Joint 2023 Select Committee on School Facilities
DESCRIPTION:The purpose of this meeting is to consider draft legislation regarding charter school leasing and the School Facilities Commission's proposed budget for the FY 2025-2026 biennium and forward the Committee's recommendation to the Joint Appropriations Committee and the Governor. The Committee will receive addtional information regarding the 2023 facility condition assessment and the expenditure of funds appropriated through 2023 Wyoming Session Laws\, Chapter 94\, Section 313(j)-(k). The Committee will also review the School Facility Commission's rules.\n\n\n\nIndividuals who plan to provide materials to the Committee during the meeting should provide the materials in electronic format to Committee staff and provide sufficient hard copies for members of the Committee\, Committee staff and interested members of the audience. Hard copies should be on three hole paper.\n\n\n\nAll materials provided to the Committee in written form will be part of the official record of the Committee's meeting and will be on file at the Legislative Service Office.\n\n\n\nPersons with disabilities requiring special accommodations to attend this meeting should contact the Legislative Service Office at: (307) 777-7881\, or by e-mail at: lso@wyoleg.gov\, for assistance.\n\n\n\nMembers of the Select Committee on School Facilities\n\nSenators: Bo Biteman\, Larry Hicks\, Bill Landen\, Troy McKeown\, Chris Rothfuss\n\n\n\nRepresentatives: Landon Brown\, Steve Harshman\, Ember Oakley\, Jared Olsen\, Liz Storer
X-ALT-DESC;FMTTYPE=text/html:The purpose of this meeting is to consider draft legislation regarding charter school leasing and the School Facilities Commission&#39\;s proposed budget for the FY 2025-2026 biennium and forward the Committee&#39\;s recommendation to the Joint Appropriations Committee and the Governor. The Committee will receive addtional information regarding the 2023 facility condition assessment and the expenditure of funds appropriated through 2023 Wyoming Session Laws\, Chapter 94\, Section 313(j)-(k). The Committee will also review the School Facility Commission&#39\;s rules.<br />\n<br />\nIndividuals who plan to provide materials to the Committee during the meeting should provide the materials in electronic format to Committee staff and provide sufficient hard copies for members of the Committee\, Committee staff and interested members of the audience. Hard copies should be on three hole paper.<br />\n<br />\nAll materials provided to the Committee in written form will be part of the official record of the Committee&rsquo\;s meeting and will be on file at the Legislative Service Office.<br />\n<br />\nPersons with disabilities requiring special accommodations to attend this meeting should contact the Legislative Service Office at: (307) 777-7881\, or by e-mail at: lso@wyoleg.gov\, for assistance.<br />\n<br />\nMembers of the Select Committee on School Facilities<br />\nSenators: Bo Biteman\, Larry Hicks\, Bill Landen\, Troy McKeown\, Chris Rothfuss<br />\n<br />\nRepresentatives: Landon Brown\, Steve Harshman\, Ember Oakley\, Jared Olsen\, Liz Storer
LOCATION:Capitol Extension\, E005 200 West 24th Street Cheyenne\, Wyoming Livestream available on the Legislature's website
UID:e.1258.30900
SEQUENCE:3
DTSTAMP:20260420T050443Z
URL:http://info.landerchamber.org/events/details/wyoming-legislature-joint-2023-select-committee-on-school-facilities-30900
END:VEVENT

END:VCALENDAR
