BEGIN:VCALENDAR
VERSION:2.0
PRODID:-//ChamberMaster//Event Calendar 2.0//EN
METHOD:PUBLISH
X-PUBLISHED-TTL:P3D
REFRESH-INTERVAL:P3D
CALSCALE:GREGORIAN
BEGIN:VEVENT
DTSTART:20230828T193000Z
DTEND:20230828T230000Z
X-MICROSOFT-CDO-ALLDAYEVENT:FALSE
SUMMARY:Wyoming Legislature Joint 2023 Select Committee on Capital Financing & Investments
DESCRIPTION:This is a tentative meeting notice. A formal meeting notice will be posted at a later date.\n\n\n\nMembers of the Joint Corporations\, Elections & Political Subdivisions Committee\n\nSenators: Eric Barlow\, Brian Boner\, Cale Case\, Bill Landen\, Charles Scott\n\n\n\nRepresentatives: Forrest Chadwick\, Jeremy Haroldson\, Steve Harshman\, Christopher Knapp\, Sandy Newsome\, Jared Olsen\, Pepper Ottman\, Cody Wylie\, Mike Yin
X-ALT-DESC;FMTTYPE=text/html:This is a tentative meeting notice. A formal meeting notice will be posted at a later date.<br />\n<br />\nMembers of the Joint Corporations\, Elections &amp\; Political Subdivisions Committee<br />\nSenators: Eric Barlow\, Brian Boner\, Cale Case\, Bill Landen\, Charles Scott<br />\n<br />\nRepresentatives: Forrest Chadwick\, Jeremy Haroldson\, Steve Harshman\, Christopher Knapp\, Sandy Newsome\, Jared Olsen\, Pepper Ottman\, Cody Wylie\, Mike Yin
LOCATION:Jackson\, Wyoming Livestream available on the Legislature's website
UID:e.1258.30682
SEQUENCE:3
DTSTAMP:20260420T092212Z
URL:http://info.landerchamber.org/events/details/wyoming-legislature-joint-2023-select-committee-on-capital-financing-investments-30682
END:VEVENT

END:VCALENDAR
