BEGIN:VCALENDAR
VERSION:2.0
PRODID:-//ChamberMaster//Event Calendar 2.0//EN
METHOD:PUBLISH
X-PUBLISHED-TTL:P3D
REFRESH-INTERVAL:P3D
CALSCALE:GREGORIAN
BEGIN:VEVENT
DTSTART:20230928T143000Z
DTEND:20230929T230000Z
X-MICROSOFT-CDO-ALLDAYEVENT:FALSE
SUMMARY:Wyoming Legislature Joint 2023 Mental Health & Vulnerable Adult Task Force
DESCRIPTION:This is a tentative meeting notice. A formal meeting notice will be posted at a later date.\n\n\n\nMembers of the Mental Health & Vulnerable Adult Task Force\n\nSenators: Fred Baldwin\, Eric Barlow\, Tara Nethercott\n\n\n\nRepresentatives: Lloyd Larsen\, Albert Sommers\, Dan Zwonitzer\n\n\n\nAdditional members: Director of Dept. of Health or designee\; Director of Family Services or designee\; Director of Corrections or designee\; Superintendent of Public Instruction or designee\; non-voting member of the Judiciary branch appointed by Supreme Court
X-ALT-DESC;FMTTYPE=text/html:This is a tentative meeting notice. A formal meeting notice will be posted at a later date.<br />\n<br />\nMembers of the Mental Health &amp\; Vulnerable Adult Task Force<br />\nSenators: Fred Baldwin\, Eric Barlow\, Tara Nethercott<br />\n<br />\nRepresentatives: Lloyd Larsen\, Albert Sommers\, Dan Zwonitzer<br />\n<br />\nAdditional members: Director of Dept. of Health or designee\; Director of Family Services or designee\; Director of Corrections or designee\; Superintendent of Public Instruction or designee\; non-voting member of the Judiciary branch appointed by Supreme Court<br />\n
LOCATION:Wyoming State Capitol\, W113 200 West 24th Street Cheyenne\, Wyoming Livestream available on the Legislature's website
UID:e.1258.30720
SEQUENCE:3
DTSTAMP:20260420T080510Z
URL:http://info.landerchamber.org/events/details/wyoming-legislature-joint-2023-mental-health-vulnerable-adult-task-force-30720
END:VEVENT

END:VCALENDAR
