BEGIN:VCALENDAR
VERSION:2.0
PRODID:-//ChamberMaster//Event Calendar 2.0//EN
METHOD:PUBLISH
X-PUBLISHED-TTL:P3D
REFRESH-INTERVAL:P3D
CALSCALE:GREGORIAN
BEGIN:VEVENT
DTSTART:20230906T143000Z
DTEND:20230906T230000Z
X-MICROSOFT-CDO-ALLDAYEVENT:FALSE
SUMMARY:Wyoming Legislature Joint 2023 Management Audit Committee
DESCRIPTION:This is a tentative meeting notice. A formal meeting notice will be posted at a later date.\n\n\n\nMembers of the Management Audit Committee\n\nSenators: Eric Barlow\, Bo Biteman\, Dan Furphy\, Mike Gierau\, Tara Nethercott\n\n\n\nRepresentatives: Landon Brown\, Jon Conrad\, Christopher Knapp\, Chip Neiman\, Pepper Ottman\, Trey Sherwood
X-ALT-DESC;FMTTYPE=text/html:This is a tentative meeting notice. A formal meeting notice will be posted at a later date.<br />\n<br />\nMembers of the Management Audit Committee<br />\nSenators: Eric Barlow\, Bo Biteman\, Dan Furphy\, Mike Gierau\, Tara Nethercott<br />\n<br />\nRepresentatives: Landon Brown\, Jon Conrad\, Christopher Knapp\, Chip Neiman\, Pepper Ottman\, Trey Sherwood
LOCATION:Cheyenne\, Wyoming Livestream available on the Legislature's website
UID:e.1258.30708
SEQUENCE:3
DTSTAMP:20260420T080215Z
URL:http://info.landerchamber.org/events/details/wyoming-legislature-joint-2023-management-audit-committee-30708
END:VEVENT

END:VCALENDAR
