BEGIN:VCALENDAR
VERSION:2.0
PRODID:-//ChamberMaster//Event Calendar 2.0//EN
METHOD:PUBLISH
X-PUBLISHED-TTL:P3D
REFRESH-INTERVAL:P3D
CALSCALE:GREGORIAN
BEGIN:VEVENT
DTSTART:20230927T143000Z
DTEND:20230927T230000Z
X-MICROSOFT-CDO-ALLDAYEVENT:FALSE
SUMMARY:Wyoming Legislature Joint 2023 Education
DESCRIPTION:This is a tentative meeting notice. A formal meeting notice will be posted at a later date.\n\n\n\nMembers of the Joint Education Committee\n\nSenators: Bo Biteman\, Evie Brennan\, Chris Rothfuss\, Charles Scott\, Cheri Steinmetz\n\n\n\nRepresentatives: Lane Allred\, Ocean Andrew\, Ryan Berger\, Landon Brown\, Ken Clouston\, Martha Lawley\, David Northrup\, Jerry Obermueller\, Karlee Provenza
X-ALT-DESC;FMTTYPE=text/html:This is a tentative meeting notice. A formal meeting notice will be posted at a later date.<br />\n<br />\nMembers of the Joint Education Committee<br />\nSenators: Bo Biteman\, Evie Brennan\, Chris Rothfuss\, Charles Scott\, Cheri Steinmetz<br />\n<br />\nRepresentatives: Lane Allred\, Ocean Andrew\, Ryan Berger\, Landon Brown\, Ken Clouston\, Martha Lawley\, David Northrup\, Jerry Obermueller\, Karlee Provenza
LOCATION:Thyra Thomson State Office Building\, Round House Conference Room\, 3rd Floor\, Room 3024 444 W Collins Drive Casper\, Wyoming Livestream available on the Legislature's website
UID:e.1258.30717
SEQUENCE:3
DTSTAMP:20260420T062446Z
URL:http://info.landerchamber.org/events/details/wyoming-legislature-joint-2023-education-30717
END:VEVENT

END:VCALENDAR
