BEGIN:VCALENDAR
VERSION:2.0
PRODID:-//ChamberMaster//Event Calendar 2.0//EN
METHOD:PUBLISH
X-PUBLISHED-TTL:P3D
REFRESH-INTERVAL:P3D
CALSCALE:GREGORIAN
BEGIN:VEVENT
DTSTART:20230906T140000Z
DTEND:20230906T230000Z
X-MICROSOFT-CDO-ALLDAYEVENT:FALSE
SUMMARY:Wyoming Legislature Joint 2023 Air Transportation Liaison Committee
DESCRIPTION:The purpose of this meeting is to receive information regarding air transportation in Wyoming. The Committee will hear testimony on air service from United Airlines\, SkyWest Airlines\, the Wyoming Department of Transportation\, Wyoming Aeronautics and the Wyoming Airports Coalition.\n\n\n\nIndividuals who plan to provide materials to the Committee during the meeting should provide the materials in electronic format to Committee staff and provide sufficient hard copies for members of the Committee\, Committee staff and interested members of the audience. Hard copies should be on three hole paper.\n\n\n\nAll materials provided to the Committee in written form will be part of the official record of the Committee's meeting and will be on file at the Legislative Service Office.\n\n\n\nPersons with disabilities requiring special accommodations to attend this meeting should contact the Legislative Service Office at: (307) 777-7881\, or by e-mail at: lso@wyoleg.gov\, for assistance.\n\n\n\nMembers of the Air Transportation Liaison Committee\n\nSenators: Ogden Driskill\, Stacy Jones\, Bill Landen\n\n\n\nRepresentatives: Tony Niemiec \, Ken Pendergraft\, Tom Walters
X-ALT-DESC;FMTTYPE=text/html:The purpose of this meeting is to receive information regarding air transportation in Wyoming. The Committee will hear testimony on air service from United Airlines\, SkyWest Airlines\, the Wyoming Department of Transportation\, Wyoming Aeronautics and the Wyoming Airports Coalition.<br />\n<br />\nIndividuals who plan to provide materials to the Committee during the meeting should provide the materials in electronic format to Committee staff and provide sufficient hard copies for members of the Committee\, Committee staff and interested members of the audience. Hard copies should be on three hole paper.<br />\n<br />\nAll materials provided to the Committee in written form will be part of the official record of the Committee&rsquo\;s meeting and will be on file at the Legislative Service Office.<br />\n<br />\nPersons with disabilities requiring special accommodations to attend this meeting should contact the Legislative Service Office at: (307) 777-7881\, or by e-mail at: lso@wyoleg.gov\, for assistance.<br />\n<br />\nMembers of the Air Transportation Liaison Committee<br />\nSenators: Ogden Driskill\, Stacy Jones\, Bill Landen<br />\n<br />\nRepresentatives: Tony Niemiec \, Ken Pendergraft\, Tom Walters
LOCATION:Snow King\, Grand Room\, Main Hotel 400 E. Snow King Ave. Jackson\, Wyoming Livestream available on the Legislature's website
UID:e.1258.30707
SEQUENCE:3
DTSTAMP:20260420T080510Z
URL:http://info.landerchamber.org/events/details/wyoming-legislature-joint-2023-air-transportation-liaison-committee-30707
END:VEVENT

END:VCALENDAR
