BEGIN:VCALENDAR
VERSION:2.0
PRODID:-//ChamberMaster//Event Calendar 2.0//EN
METHOD:PUBLISH
X-PUBLISHED-TTL:P3D
REFRESH-INTERVAL:P3D
CALSCALE:GREGORIAN
BEGIN:VEVENT
DTSTART:20230911T143000Z
DTEND:20230912T230000Z
X-MICROSOFT-CDO-ALLDAYEVENT:FALSE
SUMMARY:Wyoming Legislature Joint 2023 Agriculture\, State and Public Lands & Water Resources
DESCRIPTION:This is a tentative meeting notice. A formal meeting notice will be posted at a later date.\n\n\n\nMembers of the Joint Agriculture\, State and Public Lands & Water Resources Committee\n\nSenators: Tim French\, Larry Hicks\, Bob Ide\, John Kolb\, Dan Laursen\, Cheri Steinmetz\n\n\n\nRepresentatives: Bill Allemand\, Lane Allred\, Dalton Banks\, Jon Conrad\, Barry Crago\, Bob Davis\, John Eklund\, Allen Slagle\, John Winter
X-ALT-DESC;FMTTYPE=text/html:This is a tentative meeting notice. A formal meeting notice will be posted at a later date.<br />\n<br />\nMembers of the Joint Agriculture\, State and Public Lands &amp\; Water Resources Committee<br />\nSenators: Tim French\, Larry Hicks\, Bob Ide\, John Kolb\, Dan Laursen\, Cheri Steinmetz<br />\n<br />\nRepresentatives: Bill Allemand\, Lane Allred\, Dalton Banks\, Jon Conrad\, Barry Crago\, Bob Davis\, John Eklund\, Allen Slagle\, John Winter
LOCATION:Pinedale\, Wyoming Livestream available on the Legislature's website
UID:e.1258.30709
SEQUENCE:3
DTSTAMP:20260420T063016Z
URL:http://info.landerchamber.org/events/details/wyoming-legislature-joint-2023-agriculture-state-and-public-lands-water-resources-30709
END:VEVENT

END:VCALENDAR
