BEGIN:VCALENDAR
VERSION:2.0
PRODID:-//ChamberMaster//Event Calendar 2.0//EN
METHOD:PUBLISH
X-PUBLISHED-TTL:P3D
REFRESH-INTERVAL:P3D
CALSCALE:GREGORIAN
BEGIN:VEVENT
DTSTART:20240625T143000Z
DTEND:20240625T180000Z
X-MICROSOFT-CDO-ALLDAYEVENT:FALSE
SUMMARY:Wyoming Legislature 2024 Joint Treatment of Predators Working Group
DESCRIPTION:The purpose of this meeting is to begin consideration of the Working Group's assigned task. The Working Group will receive a review on: (1) what statutory wildlife provisions exempt or apply to predators\; (2) what statutes apply to the use of vehicles when pursuing or hunting predators\; and (3) what statutes govern animal abuse and how are predators subject to or exempt from those provisions. The Working Group will also receive an update from the Wyoming Game and Fish Department on their efforts on wolf management.\n\n\n\nThe meeting will be held in-person in Lander and remotely with a live video stream available on the Legislature's Website www.wyoleg.gov. A limited number of participants can sign up to provide public comment virtually for a specified agenda item during the Working Group's upcoming meeting. The total amount of time dedicated to virtual public comment is set by the Working Group Chairmen per Management Council Policy. Please fill out the public comment form to ensure the Working Group knows you intend to provide public comment virtually. Only those that fill out the form to provide public comments virtually and who are e-mailed the Zoom invite from the Legislative Service Office will be permitted into the Zoom meeting to testify. The deadline for members of the public requesting to provide live testimony will be 5 PM. of the day immediately preceding the day on which the topic is noticed to be discussed by the working group. At the chairman's discretion\, testimony may be accepted after this deadline if it is in the best interest of the work of the working group.\n\nPlease direct questions about this meeting to Legislative Service Office Committee staff Lucas Plumb\, Heather Hunter and Kelly Lower at: (307) 777-7881.\n\nIndividuals who plan to provide materials to the Committee during the meeting should provide the materials in electronic format to Committee staff and provide sufficient hard copies for members of the Committee\, Committee staff and interested members of the audience. Hard copies should be on three hole paper.\n\nAll materials provided to the Committee in written form will be part of the official record of the Committee's meeting and will be on file at the Legislative Service Office.\n\nPersons with disabilities requiring special accommodations to attend this meeting should contact the Legislative Service Office at: (307) 777-7881\, or by e-mail at: lso@wyoleg.gov\, for assistance.\n\n\nMembers of the Treatment of Predators Working Group\n\nSenators: Fred Baldwin\, Mike Gierau\n\nRepresentatives: Sandy Newsome\, Liz Storer\, John Winter\n\nAdditional members: Director Nesvik\, Wyoming Game and Fish\; Director Miyamoto\, Wyoming Dept. of Agriculture\; Jess Johnson\, Wyoming Wildlife Federation\; Jim Magagna\, Wyoming Stock Grower's Association
X-ALT-DESC;FMTTYPE=text/html:<div class="text-center ng-scope" ng-if="vm.meeting.category === 'Tentative'" style="box-sizing: border-box\; text-align: center\; color: rgb(0\, 0\, 0)\; font-family: Garamond\, serif\; font-size: 16px\; background-color: rgb(243\, 243\, 243)\;">\n<div class="ng-scope" ng-if="vm.meeting.category !== 'Tentative'" style="box-sizing: border-box\; color: rgb(0\, 0\, 0)\; font-family: Garamond\, serif\; font-size: 16px\; background-color: rgb(243\, 243\, 243)\;">\n<p class="ng-binding" ng-bind-html="vm.meeting.purpose" style="box-sizing: border-box\; margin: 0em 0px 1.5em\;">The purpose of this meeting is to begin consideration of the Working Group&#39\;s assigned task. The Working Group will receive a review on: (1) what statutory wildlife provisions exempt or apply to predators\; (2) what statutes apply to the use of vehicles when pursuing or hunting predators\; and (3) what statutes govern animal abuse and how are predators subject to or exempt from those provisions. The Working Group will also receive an update from the Wyoming Game and Fish Department on their efforts on wolf management.<br style="box-sizing: border-box\;" />\n<br style="box-sizing: border-box\;" />\nThe meeting will be held in-person in Lander and remotely with a live video stream available on the Legislature&#39\;s Website www.wyoleg.gov. A limited number of participants can sign up to provide public comment virtually for a specified agenda item during the Working Group&#39\;s upcoming meeting. The total amount of time dedicated to virtual public comment is set by the Working Group Chairmen per Management Council Policy. Please fill out the public comment form to ensure the Working Group knows you intend to provide public comment virtually. Only those that fill out the form to provide public comments virtually and who are e-mailed the Zoom invite from the Legislative Service Office will be permitted into the Zoom meeting to testify. The deadline for members of the public requesting to provide live testimony will be 5 PM. of the day immediately preceding the day on which the topic is noticed to be discussed by the working group. At the chairman&#39\;s discretion\, testimony may be accepted after this deadline if it is in the best interest of the work of the working group.</p>\n\n<p class="ng-binding" style="box-sizing: border-box\; margin: 0em 0px 1.5em\;">Please direct questions about this meeting to Legislative Service Office Committee staff Lucas Plumb\, Heather Hunter and Kelly Lower at: (307) 777-7881.</p>\n\n<p style="box-sizing: border-box\; margin: 0em 0px 1.5em\;">Individuals who plan to provide materials to the Committee during the meeting should provide the materials in electronic format to Committee staff and provide sufficient hard copies for members of the Committee\, Committee staff and interested members of the audience. Hard copies should be on three hole paper.</p>\n\n<p style="box-sizing: border-box\; margin: 0em 0px 1.5em\;">All materials provided to the Committee in written form will be part of the official record of the Committee&rsquo\;s meeting and will be on file at the Legislative Service Office.</p>\n\n<p style="box-sizing: border-box\; margin: 0em 0px 1.5em\;">Persons with disabilities requiring special accommodations to attend this meeting should contact the Legislative Service Office at: (307) 777-7881\, or by e-mail at: lso@wyoleg.gov\, for assistance.</p>\n</div>\n\n<h4 class="text-center ng-binding ng-scope" style="box-sizing: border-box\; font-family: &quot\;Roboto Condensed&quot\;\, &quot\;Arial Narrow&quot\;\, Arial\, sans-serif\; line-height: 26.88px\; color: rgb(110\, 0\, 0)\; margin: 20px 0px 17px\; font-size: 1.4em\; text-align: center\; background-color: rgb(243\, 243\, 243)\;">Members of the Treatment of Predators Working Group</h4>\n\n<p class="text-center ng-binding ng-scope" ng-if="vm.showChamberMembership(vm.meeting\, 'Senate'\, vm.meeting.membersSenate)" style="box-sizing: border-box\; margin: 0em 0px 1.5em\; text-align: center\; color: rgb(0\, 0\, 0)\; font-family: Garamond\, serif\; font-size: 16px\; background-color: rgb(243\, 243\, 243)\;"><em style="box-sizing: border-box\;">Senators:&nbsp\;</em>Fred Baldwin\, Mike Gierau</p>\n\n<p class="text-center ng-binding ng-scope" ng-if="vm.showChamberMembership(vm.meeting\, 'House'\, vm.meeting.membersHouse)" style="box-sizing: border-box\; margin: 0em 0px 1.5em\; text-align: center\; color: rgb(0\, 0\, 0)\; font-family: Garamond\, serif\; font-size: 16px\; background-color: rgb(243\, 243\, 243)\;"><em style="box-sizing: border-box\;">Representatives:&nbsp\;</em>Sandy Newsome\, Liz Storer\, John Winter</p>\n\n<p class="text-center ng-binding ng-scope" ng-if="vm.meeting.membersOther" style="box-sizing: border-box\; margin: 0em 0px 1.5em\; text-align: center\; color: rgb(0\, 0\, 0)\; font-family: Garamond\, serif\; font-size: 16px\; background-color: rgb(243\, 243\, 243)\;"><em style="box-sizing: border-box\;">Additional members:&nbsp\;</em>Director Nesvik\, Wyoming Game and Fish\; Director Miyamoto\, Wyoming Dept. of Agriculture\; Jess Johnson\, Wyoming Wildlife Federation\; Jim Magagna\, Wyoming Stock Grower&rsquo\;s Association</p>\n</div>\n
LOCATION:Fremont County School District\, Board Room 863 Sweetwater Lander\, Wyoming Livestream available on the Legislature's website at www.wyoleg.gov
UID:e.1258.31184
SEQUENCE:3
DTSTAMP:20260419T181155Z
URL:http://info.landerchamber.org/events/details/wyoming-legislature-2024-joint-treatment-of-predators-working-group-31184
END:VEVENT

END:VCALENDAR
