BEGIN:VCALENDAR
VERSION:2.0
PRODID:-//ChamberMaster//Event Calendar 2.0//EN
METHOD:PUBLISH
X-PUBLISHED-TTL:P3D
REFRESH-INTERVAL:P3D
CALSCALE:GREGORIAN
BEGIN:VEVENT
DTSTART:20240612T143000Z
DTEND:20240613T230000Z
X-MICROSOFT-CDO-ALLDAYEVENT:FALSE
SUMMARY:Wyoming Legislature 2024 Joint Education
DESCRIPTION:The purpose of this meeting is to receive information regarding interim topics relating to early childhood education\, school choice\, K-3 reading assessment and intervention\, K-12 mental health\, and career and technical education. The Committee will also tour the University of Wyoming's Innovation Wyrkshop.\n\nIndividuals who plan to address the Committee during the public comment portion of each agenda item and wish to provide testimony in excess of five minutes or have a presentation to accompany their testimony\, should advise the chairmen and LSO prior to the meeting so the chairmen can plan accordingly.\n\n\n\nIndividuals who plan to provide materials to the Committee during the meeting should provide the materials in electronic format to Committee staff and provide sufficient hard copies for members of the Committee\, Committee staff and interested members of the audience. Hard copies should be on three hole paper.\n\n\n\nAll materials provided to the Committee in written form will be part of the official record of the Committee's meeting and will be on file at the Legislative Service Office.\n\n\n\nPersons with disabilities requiring special accommodations to attend this meeting should contact the Legislative Service Office at: (307) 777-7881\, or by e-mail at: lso@wyoleg.gov\, for assistance.\n\n\n\nMembers of the Joint Education Committee\n\n\n\nSenators: Bo Biteman\, Evie Brennan\, Chris Rothfuss\, Charles Scott\, Cheri Steinmetz\n\nRepresentatives: Lane Allred\, Ocean Andrew\, Ryan Berger\, Landon Brown\, Ken Clouston\, Martha Lawley\, David Northrup\, Jerry Obermueller\, Karlee Provenza
X-ALT-DESC;FMTTYPE=text/html:The purpose of this meeting is to receive information regarding interim topics relating to early childhood education\, school choice\, K-3 reading assessment and intervention\, K-12 mental health\, and career and technical education. The Committee will also tour the University of Wyoming&#39\;s Innovation Wyrkshop.<br />\nIndividuals who plan to address the Committee during the public comment portion of each agenda item and wish to provide testimony in excess of five minutes or have a presentation to accompany their testimony\, should advise the chairmen and LSO prior to the meeting so the chairmen can plan accordingly.<br />\n<br />\nIndividuals who plan to provide materials to the Committee during the meeting should provide the materials in electronic format to Committee staff and provide sufficient hard copies for members of the Committee\, Committee staff and interested members of the audience. Hard copies should be on three hole paper.<br />\n<br />\nAll materials provided to the Committee in written form will be part of the official record of the Committee&rsquo\;s meeting and will be on file at the Legislative Service Office.<br />\n<br />\nPersons with disabilities requiring special accommodations to attend this meeting should contact the Legislative Service Office at: (307) 777-7881\, or by e-mail at: lso@wyoleg.gov\, for assistance.<br />\n<br />\nMembers of the Joint Education Committee<br />\n<br />\nSenators: Bo Biteman\, Evie Brennan\, Chris Rothfuss\, Charles Scott\, Cheri Steinmetz<br />\nRepresentatives: Lane Allred\, Ocean Andrew\, Ryan Berger\, Landon Brown\, Ken Clouston\, Martha Lawley\, David Northrup\, Jerry Obermueller\, Karlee Provenza
LOCATION:University of Wyoming Energy Innovation Center\, Room 201 1000 E. Lewis St. Laramie\, Wyoming
UID:e.1258.31156
SEQUENCE:3
DTSTAMP:20260419T180519Z
URL:http://info.landerchamber.org/events/details/wyoming-legislature-2024-joint-education-31156
END:VEVENT

END:VCALENDAR
