BEGIN:VCALENDAR
VERSION:2.0
PRODID:-//ChamberMaster//Event Calendar 2.0//EN
METHOD:PUBLISH
X-PUBLISHED-TTL:P3D
REFRESH-INTERVAL:P3D
CALSCALE:GREGORIAN
BEGIN:VEVENT
DTSTART:20240624T150000Z
DTEND:20240624T230000Z
X-MICROSOFT-CDO-ALLDAYEVENT:FALSE
SUMMARY:Wyoming Legislature 2024 Joint Business Fraud Working Group
DESCRIPTION:The purpose of this meeting is to begin the Joint Corporations\, Elections and Political Subdivisions Interim Committee's working group's discussions regarding business and limited liability company (LLC) fraud.\n\n\n\nThose wishing to participate in the discussion need to contact the Chairmen\, Senator Case (cale.case@wyoleg.gov) and Representative Olsen (jared.olsen@wyoleg.gov) for permission to do so.\n\n\n\nThe meeting will be held via zoom only. A limited number of participants can sign up to provide public comment virtually for a specified agenda item during the working group's upcoming meeting. The total amount of time dedicated to virtual public comment is set by the Committee Chairmen per Management Council Policy. Please contact the Chairmen if you wish to testify. Only those who contact the Chairmen and who are e-mailed the Zoom invite from the Legislative Service Office will be permitted into the Zoom meeting to testify.\n\nPlease direct questions about this meeting to Legislative Service Office Committee staff Josh Anderson\, Katie Adams\, Kelly Lower and Katie Talbott at: (307) 777-7881.\n\nIndividuals who plan to provide materials to the Committee during the meeting should provide the materials in electronic format to Committee staff and provide sufficient hard copies for members of the Committee\, Committee staff and interested members of the audience. Hard copies should be on three hole paper.\n\nAll materials provided to the Committee in written form will be part of the official record of the Committee's meeting and will be on file at the Legislative Service Office.\n\nPersons with disabilities requiring special accommodations to attend this meeting should contact the Legislative Service Office at: (307) 777-7881\, or by e-mail at: lso@wyoleg.gov\, for assistance.\n\n\nMembers of the Business Fraud Working Group\n\nSenators: Cale Case\n\nRepresentatives: Jared Olsen\, Pepper Ottman
X-ALT-DESC;FMTTYPE=text/html:<div class="ng-scope" ng-if="vm.meeting.category !== 'Tentative'" style="box-sizing: border-box\; color: rgb(0\, 0\, 0)\; font-family: Garamond\, serif\; font-size: 16px\; background-color: rgb(243\, 243\, 243)\;">\n<p class="ng-binding" ng-bind-html="vm.meeting.purpose" style="box-sizing: border-box\; margin: 0em 0px 1.5em\;">The purpose of this meeting is to begin the Joint Corporations\, Elections and Political Subdivisions Interim Committee&#39\;s working group&#39\;s discussions regarding business and limited liability company (LLC) fraud.<br style="box-sizing: border-box\;" />\n<br style="box-sizing: border-box\;" />\nThose wishing to participate in the discussion need to contact the Chairmen\, Senator Case (cale.case@wyoleg.gov) and Representative Olsen (jared.olsen@wyoleg.gov) for permission to do so.<br style="box-sizing: border-box\;" />\n<br style="box-sizing: border-box\;" />\nThe meeting will be held via zoom only. A limited number of participants can sign up to provide public comment virtually for a specified agenda item during the working group&#39\;s upcoming meeting. The total amount of time dedicated to virtual public comment is set by the Committee Chairmen per Management Council Policy. Please contact the Chairmen if you wish to testify. Only those who contact the Chairmen and who are e-mailed the Zoom invite from the Legislative Service Office will be permitted into the Zoom meeting to testify.</p>\n\n<p class="ng-binding" style="box-sizing: border-box\; margin: 0em 0px 1.5em\;">Please direct questions about this meeting to Legislative Service Office Committee staff Josh Anderson\, Katie Adams\, Kelly Lower and Katie Talbott at: (307) 777-7881.</p>\n\n<p style="box-sizing: border-box\; margin: 0em 0px 1.5em\;">Individuals who plan to provide materials to the Committee during the meeting should provide the materials in electronic format to Committee staff and provide sufficient hard copies for members of the Committee\, Committee staff and interested members of the audience. Hard copies should be on three hole paper.</p>\n\n<p style="box-sizing: border-box\; margin: 0em 0px 1.5em\;">All materials provided to the Committee in written form will be part of the official record of the Committee&rsquo\;s meeting and will be on file at the Legislative Service Office.</p>\n\n<p style="box-sizing: border-box\; margin: 0em 0px 1.5em\;">Persons with disabilities requiring special accommodations to attend this meeting should contact the Legislative Service Office at: (307) 777-7881\, or by e-mail at: lso@wyoleg.gov\, for assistance.</p>\n</div>\n\n<h4 class="text-center ng-binding ng-scope" style="box-sizing: border-box\; font-family: &quot\;Roboto Condensed&quot\;\, &quot\;Arial Narrow&quot\;\, Arial\, sans-serif\; line-height: 26.88px\; color: rgb(110\, 0\, 0)\; margin: 20px 0px 17px\; font-size: 1.4em\; text-align: center\; background-color: rgb(243\, 243\, 243)\;">Members of the Business Fraud Working Group</h4>\n\n<p class="text-center ng-binding ng-scope" ng-if="vm.showChamberMembership(vm.meeting\, 'Senate'\, vm.meeting.membersSenate)" style="box-sizing: border-box\; margin: 0em 0px 1.5em\; text-align: center\; color: rgb(0\, 0\, 0)\; font-family: Garamond\, serif\; font-size: 16px\; background-color: rgb(243\, 243\, 243)\;"><em style="box-sizing: border-box\;">Senators:&nbsp\;</em>Cale Case</p>\n\n<p class="text-center ng-binding ng-scope" ng-if="vm.showChamberMembership(vm.meeting\, 'House'\, vm.meeting.membersHouse)" style="box-sizing: border-box\; margin: 0em 0px 1.5em\; text-align: center\; color: rgb(0\, 0\, 0)\; font-family: Garamond\, serif\; font-size: 16px\; background-color: rgb(243\, 243\, 243)\;"><em style="box-sizing: border-box\;">Representatives:&nbsp\;</em>Jared Olsen\, Pepper Ottman</p>\n
LOCATION:Online via Zoom Only Online Only Cheyenne\, Wyoming
UID:e.1258.31183
SEQUENCE:3
DTSTAMP:20260419T181340Z
URL:http://info.landerchamber.org/events/details/wyoming-legislature-2024-joint-business-fraud-working-group-31183
END:VEVENT

END:VCALENDAR
