BEGIN:VCALENDAR
VERSION:2.0
PRODID:-//ChamberMaster//Event Calendar 2.0//EN
METHOD:PUBLISH
X-PUBLISHED-TTL:P3D
REFRESH-INTERVAL:P3D
CALSCALE:GREGORIAN
BEGIN:VEVENT
DTSTART;VALUE=DATE:20220503
DTEND;VALUE=DATE:20220505
TRANSP:TRANSPARENT
X-MICROSOFT-CDO-ALLDAYEVENT:TRUE
SUMMARY:Wyoming Law Enforcement Coordinating Committee (LECC) Conference
DESCRIPTION:The Wyoming Law Enforcement Coordinating Committee (LECC) Conference will be held at the Inn at Lander beginning at 8:00 AM on Tuesday\, May 3rd\, and will conclude at 5:00 PM on Wednesday\, May 4th\, according to a release from the Department of Justice.\n\n\n\nThis conference is for law enforcement officers and provides training sessions coupled with the opportunity to meet and network with other law enforcement from local\, county\, state\, federal and tribal agencies across Wyoming.\n\n\n\nThis year's theme is Sharing Solutions for Stronger Law Enforcement and Safer Communities.
X-ALT-DESC;FMTTYPE=text/html:<p style="box-sizing: border-box\; overflow-wrap: break-word\; margin: 0px auto 26px\; color: rgb(34\, 34\, 34)\; font-family: Verdana\, BlinkMacSystemFont\, -apple-system\, &quot\;segoe ui&quot\;\, Roboto\, Oxygen\, Ubuntu\, Cantarell\, &quot\;open sans&quot\;\, &quot\;helvetica neue&quot\;\, sans-serif\; font-size: 15px\;"><span style="font-size:12px\;"><span style="font-family:arial\;">The Wyoming Law Enforcement Coordinating Committee (LECC) Conference will be held at the Inn at Lander beginning at 8:00 AM on Tuesday\, May 3rd\, and will conclude at 5:00 PM on Wednesday\, May 4th\, according to a release from the Department of Justice.<br />\n<br />\nThis conference is for law enforcement officers and provides training sessions coupled with the opportunity to meet and network with other law enforcement from local\, county\, state\, federal and tribal agencies across Wyoming.<br />\n<br />\nThis year&rsquo\;s theme is Sharing Solutions for Stronger Law Enforcement and Safer Communities.</span></span></p>\n
LOCATION:The Inn at Lander
UID:e.1258.28752
SEQUENCE:3
DTSTAMP:20260423T041459Z
URL:http://info.landerchamber.org/events/details/wyoming-law-enforcement-coordinating-committee-lecc-conference-28752
END:VEVENT

END:VCALENDAR
