BEGIN:VCALENDAR
VERSION:2.0
PRODID:-//ChamberMaster//Event Calendar 2.0//EN
METHOD:PUBLISH
X-PUBLISHED-TTL:P3D
REFRESH-INTERVAL:P3D
CALSCALE:GREGORIAN
BEGIN:VEVENT
DTSTART;VALUE=DATE:20240408
DTEND;VALUE=DATE:20240413
TRANSP:TRANSPARENT
X-MICROSOFT-CDO-ALLDAYEVENT:TRUE
SUMMARY:Wyoming Funding Summit 2024
DESCRIPTION:Senators John Barrasso & Cynthia Lummis and Governor Mark Gordon are proud to announce the 2024 Wyoming Funding Summit on April 8-12\, 2024. \n\n\n\nThe summit provides FREE professional training on identifying\, applying for\, securing and managing grant funding. Interact with and hear directly from state and federal funding agencies. Towns and counties strongly encouraged to attend.\n\n\n\nIn 2023\, Senator Lummis joined Senator John Barrasso and Governor Mark Gordon in hosting a first of its kind event providing free professional instruction\, access to agency representatives and various resources to help localities\, counties and non-government organizations (NGOs) apply for\, secure and manage federal funds.\n\n\n\nThe Wyoming Federal Funding Summit was held in Sheridan\, Wyoming and featured a grant writing intensive provided by MC2 Collaborative in conjunction with David Piantanida\, Media Officer/Congressional Liaison\, U.S. EPA Region 8 Public Affairs.\n\n\n\nIn addition to the federal grant writing and management workshop\, there were additional panels and discussions on Infrastructure\, Investment & Jobs Act (IIJA) and Inflation Reduction Act funding\, technical assistance and grant management.
X-ALT-DESC;FMTTYPE=text/html:Senators John Barrasso &amp\; Cynthia Lummis and Governor Mark Gordon are proud to announce the 2024 Wyoming Funding Summit on April 8-12\, 2024.&nbsp\;<br />\n<br />\nThe summit provides FREE professional training on identifying\, applying for\, securing and managing grant funding. Interact with and hear directly from state and federal funding agencies. Towns and counties strongly encouraged to attend.<br />\n<br />\nIn 2023\, Senator Lummis joined Senator John Barrasso and Governor Mark Gordon in hosting a first of its kind event providing free professional instruction\, access to agency representatives and various resources to help localities\, counties and non-government organizations (NGOs) apply for\, secure and manage federal funds.<br />\n<br />\nThe Wyoming Federal Funding Summit was held in Sheridan\, Wyoming and featured a grant writing intensive provided by MC2 Collaborative in conjunction with David Piantanida\, Media Officer/Congressional Liaison\, U.S. EPA Region 8 Public Affairs.<br />\n<br />\nIn addition to the federal grant writing and management workshop\, there were additional panels and discussions on Infrastructure\, Investment &amp\; Jobs Act (IIJA) and Inflation Reduction Act funding\, technical assistance and grant management.
LOCATION:Central Wyoming College Riverton\, WY 82501
UID:e.1258.31030
SEQUENCE:3
DTSTAMP:20260419T211049Z
URL:http://info.landerchamber.org/events/details/wyoming-funding-summit-2024-31030
END:VEVENT

END:VCALENDAR
