BEGIN:VCALENDAR
VERSION:2.0
PRODID:-//ChamberMaster//Event Calendar 2.0//EN
METHOD:PUBLISH
X-PUBLISHED-TTL:P3D
REFRESH-INTERVAL:P3D
CALSCALE:GREGORIAN
BEGIN:VEVENT
DTSTART:20240312T000000Z
DTEND:20240312T020000Z
X-MICROSOFT-CDO-ALLDAYEVENT:FALSE
SUMMARY:Wyoming Department of Education Superintendent Town Hall
DESCRIPTION:Join the Wyoming Department of Education for an Education Town Hall to learn how the agency works with local leaders to support students\, families\, and educators. Attendees will hear a brief presentation and have the  opportunity to ask questions during the event.\n\nSpeakers\n\nMegan Degenfelder\, Wyoming State Superintendent of Public Instruction\n\n\n\nTaylor Jacobs\, Board Member of the Wyoming State Board of Education and Fremont County School District #1 School Board
X-ALT-DESC;FMTTYPE=text/html:<p>Join the Wyoming Department of&nbsp\;Education for an Education Town Hall to learn&nbsp\;how the agency works with local leaders&nbsp\;to support students\, families\, and educators.&nbsp\;Attendees will hear a brief presentation and have the&nbsp\; opportunity to ask&nbsp\;questions during the event.</p>\n\n<p><strong>Speakers</strong><br />\nMegan&nbsp\;Degenfelder\,&nbsp\;Wyoming State&nbsp\;Superintendent&nbsp\;of Public Instruction<br />\n<br />\nTaylor Jacobs\,&nbsp\;Board Member of the&nbsp\;Wyoming State Board&nbsp\;of Education and Fremont&nbsp\;County School District #1 School Board</p>\n
LOCATION:Lander Community & Convention Center Delmonte Room
UID:e.1258.31087
SEQUENCE:3
DTSTAMP:20260419T222243Z
URL:http://info.landerchamber.org/events/details/wyoming-department-of-education-superintendent-town-hall-31087
END:VEVENT

END:VCALENDAR
