BEGIN:VCALENDAR
VERSION:2.0
PRODID:-//ChamberMaster//Event Calendar 2.0//EN
METHOD:PUBLISH
X-PUBLISHED-TTL:P3D
REFRESH-INTERVAL:P3D
CALSCALE:GREGORIAN
BEGIN:VEVENT
DTSTART:20240306T180000Z
DTEND:20240306T190000Z
X-MICROSOFT-CDO-ALLDAYEVENT:FALSE
SUMMARY:Wyoming Community Navigator Program Webinar: How to Use AI to Boost Your Social Media Strategy
DESCRIPTION:In this webinar\, you will learn how AI can help you create engaging content\, optimize your posting schedule\, analyze your performance\, and target your ideal audience. You will also discover some of the best AI tools for social media management and how to use them effectively.\n\nPresenter\n\nAlex Gunter\, a UW MBA graduate\, and digital transformation consultant\, is passionate about helping organizations leverage AI for enhanced productivity. With a rich learning background from top-tier seminars at Stanford and Harvard\, Alex envisions a future where AI and robotics significantly elevate our quality of life.\n\nClick here to reserve your spot.
X-ALT-DESC;FMTTYPE=text/html:<p>In this webinar\, you will learn how AI can help you create engaging content\, optimize your posting schedule\, analyze your performance\, and target your ideal audience. You will also discover some of the best AI tools for social media management and how to use them effectively.</p>\n\n<p><strong>Presenter</strong></p>\n\n<p><strong>Alex Gunter</strong>\, a UW MBA graduate\, and digital transformation consultant\, is passionate about helping organizations leverage AI for enhanced productivity. With a rich learning background from top-tier seminars at Stanford and Harvard\, Alex envisions a future where AI and robotics significantly elevate our quality of life.</p>\n\n<p><span style="font-size:12px\;"><span style="font-family:arial\;"><strong><a href="https://register.gotowebinar.com/register/1296374124357055065" target="_blank"><span style="color: rgb(53\, 53\, 53)\;">Click here to reserve your spot.</span></a></strong></span></span></p>\n
LOCATION:Online
UID:e.1258.31092
SEQUENCE:3
DTSTAMP:20260420T062330Z
URL:http://info.landerchamber.org/events/details/wyoming-community-navigator-program-webinar-how-to-use-ai-to-boost-your-social-media-strategy-31092
END:VEVENT

END:VCALENDAR
