BEGIN:VCALENDAR
VERSION:2.0
PRODID:-//ChamberMaster//Event Calendar 2.0//EN
METHOD:PUBLISH
X-PUBLISHED-TTL:P3D
REFRESH-INTERVAL:P3D
CALSCALE:GREGORIAN
BEGIN:VEVENT
DTSTART:20240320T170000Z
DTEND:20240320T180000Z
X-MICROSOFT-CDO-ALLDAYEVENT:FALSE
SUMMARY:Wyoming Community Navigator Program Webinar: How to Build Your Own Custom GPT for Your Business
DESCRIPTION:ChatGPT is a powerful conversational AI platform that lets you create your own custom GPT models for various purposes. Whether you need a customer support assistant\, a content creation tool\, a legal document reviewer\, or a website development helper\, ChatGPT can help you build it in a few simple steps. In this webinar\, you will learn how to use ChatGPT's GPT builder to design\, train\, and test your own custom GPT for your business needs.\n\nPresenter\n\nAlex Gunter\, a UW MBA graduate\, and digital transformation consultant\, is passionate about helping organizations leverage AI for enhanced productivity. With a rich learning background from top-tier seminars at Stanford and Harvard\, Alex envisions a future where AI and robotics significantly elevate our quality of life.\n\nClick here to reserve your spot.
X-ALT-DESC;FMTTYPE=text/html:<p>ChatGPT is a powerful conversational AI platform that lets you create your own custom GPT models for various purposes. Whether you need a customer support assistant\, a content creation tool\, a legal document reviewer\, or a website development helper\, ChatGPT can help you build it in a few simple steps. In this webinar\, you will learn how to use ChatGPT&rsquo\;s GPT builder to design\, train\, and test your own custom GPT for your business needs.</p>\n\n<p><strong>Presenter</strong></p>\n\n<p><strong>Alex Gunter</strong>\, a UW MBA graduate\, and digital transformation consultant\, is passionate about helping organizations leverage AI for enhanced productivity. With a rich learning background from top-tier seminars at Stanford and Harvard\, Alex envisions a future where AI and robotics significantly elevate our quality of life.</p>\n\n<p><span style="font-size:12px\;"><span style="font-family:arial\;"><strong><a href="https://register.gotowebinar.com/register/6159423894056992342" target="_blank"><span style="color: rgb(53\, 53\, 53)\;">Click here to reserve your spot.</span></a></strong></span></span></p>\n
LOCATION:Online
UID:e.1258.31094
SEQUENCE:3
DTSTAMP:20260420T062542Z
URL:http://info.landerchamber.org/events/details/wyoming-community-navigator-program-webinar-how-to-build-your-own-custom-gpt-for-your-business-31094
END:VEVENT

END:VCALENDAR
