BEGIN:VCALENDAR
VERSION:2.0
PRODID:-//ChamberMaster//Event Calendar 2.0//EN
METHOD:PUBLISH
X-PUBLISHED-TTL:P3D
REFRESH-INTERVAL:P3D
CALSCALE:GREGORIAN
BEGIN:VEVENT
DTSTART:20230915T170000Z
DTEND:20230915T180000Z
X-MICROSOFT-CDO-ALLDAYEVENT:FALSE
SUMMARY:Wyoming Community Navigator Program Webinar: 90-Day GAME Plan
DESCRIPTION:Having goals is great\, but having a plan to achieve those goals is even better. Planning is foundational and should be a part of every business. However\, keeping up with strategic and annual plans can be overwhelming without the right framework and tools. Join us for the 90-Day Planning interactive Workshop\, as we walk through the 90-day framework to learn how to break your plan down into manageable 90-day sprints to narrow your focus and achieve more. Increasing your results is not about doing more things\, it is about doing more of the RIGHT things and that is what we will focus on during the workshop.\n\nPresenter: Tonya Harrison\, Founder and CEO of Cignal Partners is transforming operations and helping small businesses move from being busy and burnout to productive and profitable by integrating automation and the RIGHT systems.\n\nBefore trading in the corner office\, Tonya spent 25+ years helping organizations successfully turn around low performing departments and develop efficiency through systems and automation.\n\nTonya spends her days hosting techshops\, 1:1 strategy sessions and partnering with organizations to facilitate workshops and webinars to help startups and solopreneurs integrate technology and optimize their operations.\n\nClick here to reserve your spot.
X-ALT-DESC;FMTTYPE=text/html:<p><span style="font-family:arial\;"><span style="color: rgb(33\, 33\, 33)\; font-size: 14px\; background-color: rgb(255\, 255\, 255)\;">Having goals is great\, but having a plan to achieve those goals is even better. Planning is foundational and should be a part of every business. However\, keeping up with strategic and annual plans can be overwhelming without the right framework and tools. Join us for the 90-Day Planning interactive Workshop\, as we walk through the 90-day framework to learn how to break your plan down into manageable 90-day sprints to narrow your focus and achieve more. Increasing your results is not about doing more things\, it is about doing more of the RIGHT things and that is what we will focus on during the workshop.</span></span></p>\n\n<p style="padding: 0px\; border: 0px\; outline: 0px\; font-size: 14px\; text-size-adjust: 100%\; vertical-align: baseline\; background: transparent\; color: rgb(33\, 33\, 33)\; font-family: Verdana\, Helvetica\, Arial\, Lucida\, sans-serif\; box-sizing: border-box !important\; margin: 0px 0px 25px !important\; line-height: var(--line-height) !important\;"><span style="font-family:arial\;"><strong>Presenter:</strong> Tonya Harrison\, Founder and CEO of Cignal Partners is transforming operations and helping small businesses move from being busy and burnout to productive and profitable by integrating automation and the RIGHT systems.</span></p>\n\n<p style="padding: 0px\; border: 0px\; outline: 0px\; font-size: 14px\; text-size-adjust: 100%\; vertical-align: baseline\; background: transparent\; color: rgb(33\, 33\, 33)\; font-family: Verdana\, Helvetica\, Arial\, Lucida\, sans-serif\; box-sizing: border-box !important\; margin: 0px 0px 25px !important\; line-height: var(--line-height) !important\;"><span style="font-family:arial\;">Before trading in the corner office\, Tonya spent 25+ years helping organizations successfully turn around low performing departments and develop efficiency through systems and automation.</span></p>\n\n<p style="padding: 0px\; border: 0px\; outline: 0px\; font-size: 14px\; text-size-adjust: 100%\; vertical-align: baseline\; background: transparent\; color: rgb(33\, 33\, 33)\; font-family: Verdana\, Helvetica\, Arial\, Lucida\, sans-serif\; box-sizing: border-box !important\; margin: 0px 0px 25px !important\; line-height: var(--line-height) !important\;"><span style="font-family:arial\;">Tonya spends her days hosting techshops\, 1:1 strategy sessions and partnering with organizations to facilitate workshops and webinars to help startups and solopreneurs integrate technology and optimize their operations.</span></p>\n\n<p><span style="font-family:arial\;"><strong><a href="https://uwyo.zoom.us/webinar/register/WN_1NUHA0PVReaWzHIJu2ZR7A" target="_blank"><span style="color: rgb(53\, 53\, 53)\; font-size: 14px\;">Click here to reserve your spot.</span></a></strong></span></p>\n
LOCATION:Online
UID:e.1258.30738
SEQUENCE:3
DTSTAMP:20260422T091454Z
URL:http://info.landerchamber.org/events/details/wyoming-community-navigator-program-webinar-90-day-game-plan-30738
END:VEVENT

END:VCALENDAR
