BEGIN:VCALENDAR
VERSION:2.0
PRODID:-//ChamberMaster//Event Calendar 2.0//EN
METHOD:PUBLISH
X-PUBLISHED-TTL:P3D
REFRESH-INTERVAL:P3D
CALSCALE:GREGORIAN
BEGIN:VEVENT
DTSTART:20240427T010000Z
DTEND:20240427T040000Z
X-MICROSOFT-CDO-ALLDAYEVENT:FALSE
SUMMARY:Wyoming Catholic College Annual Lecture Series - Lecture 6 Abigail Favale\, University of Notre Dame
DESCRIPTION:Abigail Favale\, University of Notre Dame\n\n\n\nDr. Favale is an active writer\, speaker\, and teacher\, focusing on the topics of women\, feminism\, and gender from a Catholic perspective.  Abigail holds a bachelor's degree in philosophy from George Fox University\, as well as a master's degree in gender studies and a PhD in English from the University of St. Andrews in Scotland\, where she specialized in women's writing and feminist literary criticism. Her first book\, Irigaray\, Incarnation\, and Contemporary Women's Fiction was published by Palgrave and awarded the 2014 Feminist and Women's Studies Book Award. Her second book is Into the Deep: An Unlikely Catholic Conversion\, a spiritual memoir that traces her journey from birthright evangelicalism to postmodern feminism and\, finally\, to Catholicism. Abigail's most recent book is The Genesis of Gender: A Christian Theory\, published in 2022 by Ignatius Press. Her essays appear regularly in MICL's Church Life Journal and elsewhere. She lives with her husband\, Michael\, and their four children in South Bend\, Indiana. She loves a good IPA and zipping to work on her sweet little e-bike.
X-ALT-DESC;FMTTYPE=text/html:Abigail Favale\, University of Notre Dame<br />\n<br />\nDr. Favale is an active writer\, speaker\, and teacher\, focusing on the topics of women\, feminism\, and gender from a Catholic perspective.&nbsp\; Abigail holds a bachelor&rsquo\;s degree in philosophy from George Fox University\, as well as a master&rsquo\;s degree in gender studies and a PhD in English from the University of St. Andrews in Scotland\, where she specialized in women&rsquo\;s writing and feminist literary criticism. Her first book\, Irigaray\, Incarnation\, and Contemporary Women&rsquo\;s Fiction was published by Palgrave and awarded the 2014 Feminist and Women&rsquo\;s Studies Book Award. Her second book is Into the Deep: An Unlikely Catholic Conversion\, a spiritual memoir that traces her journey from birthright evangelicalism to postmodern feminism and\, finally\, to Catholicism. Abigail&rsquo\;s most recent book is The Genesis of Gender: A Christian Theory\, published in 2022 by Ignatius Press. Her essays appear regularly in MICL&rsquo\;s Church Life Journal and elsewhere. She lives with her husband\, Michael\, and their four children in South Bend\, Indiana. She loves a good IPA and zipping to work on her sweet little e-bike.
LOCATION:Lander Community Center As in past years\, the entire Lecture Series is open to the General Public.
UID:e.1258.30727
SEQUENCE:3
DTSTAMP:20260419T211937Z
URL:http://info.landerchamber.org/events/details/wyoming-catholic-college-annual-lecture-series-lecture-6-abigail-favale-university-of-notre-dame-30727
END:VEVENT

END:VCALENDAR
