BEGIN:VCALENDAR
VERSION:2.0
PRODID:-//ChamberMaster//Event Calendar 2.0//EN
METHOD:PUBLISH
X-PUBLISHED-TTL:P3D
REFRESH-INTERVAL:P3D
CALSCALE:GREGORIAN
BEGIN:VEVENT
DTSTART:20231118T020000Z
DTEND:20231118T050000Z
X-MICROSOFT-CDO-ALLDAYEVENT:FALSE
SUMMARY:Wyoming Catholic College Annual Lecture Series - 2023-2024 Lecture 3
DESCRIPTION:James Poulos\, Executive Editor\, The American Mind\n\n\n\nJames Poulos is the Executive Editor of The American Mind\, the Claremont Institute's online publication devoted to driving the conversation about the ideas and principles that drive American political life. Dr. Poulos graduated from Duke University with distinction in Political Science and received his Ph.D. in Government from Georgetown University. The author of The Art of Being Free (St. Martin's Press\, 2017)\, a study of Tocqueville's Democracy in America\, he is also the contributing editor of American Affairs and a fellow at the Center for the Study of Digital Life. A frequent commentator on technology and the American character\, his writing has been featured in publications from National Affairs to National Review and Foreign Affairs to Foreign Policy\, and praised at The New York Times\, The Washington Post\, The New Yorker\, and many more. In his newest book\, Human Forever: The Digital Politics of Spiritual War\, he assesses the unique challenges posed by digital technology to how we perceive ourselves and the world around us including the spiritual realm. Dr. Poulos has appeared on numerous television and radio programs and delivered remarks before audiences at organizations and campuses across the country. He lives in Los Angeles.
X-ALT-DESC;FMTTYPE=text/html:James Poulos\, Executive Editor\, The American Mind<br />\n<br />\nJames Poulos is the Executive Editor of The American Mind\, the Claremont Institute&rsquo\;s online publication devoted to driving the conversation about the ideas and principles that drive American political life. Dr. Poulos graduated from Duke University with distinction in Political Science and received his Ph.D. in Government from Georgetown University. The author of The Art of Being Free (St. Martin&rsquo\;s Press\, 2017)\, a study of Tocqueville&rsquo\;s Democracy in America\, he is also the contributing editor of American Affairs and a fellow at the Center for the Study of Digital Life. A frequent commentator on technology and the American character\, his writing has been featured in publications from National Affairs to National Review and Foreign Affairs to Foreign Policy\, and praised at The New York Times\, The Washington Post\, The New Yorker\, and many more. In his newest book\, Human Forever: The Digital Politics of Spiritual War\, he assesses the unique challenges posed by digital technology to how we perceive ourselves and the world around us&mdash\;including the spiritual realm. Dr. Poulos has appeared on numerous television and radio programs and delivered remarks before audiences at organizations and campuses across the country. He lives in Los Angeles.
LOCATION:Lander Valley High School Auditorium As in past years\, the entire Lecture Series is open to the General Public.
UID:e.1258.30724
SEQUENCE:3
DTSTAMP:20260420T033223Z
URL:http://info.landerchamber.org/events/details/wyoming-catholic-college-annual-lecture-series-2023-2024-lecture-3-30724
END:VEVENT

END:VCALENDAR
