BEGIN:VCALENDAR
VERSION:2.0
PRODID:-//ChamberMaster//Event Calendar 2.0//EN
METHOD:PUBLISH
X-PUBLISHED-TTL:P3D
REFRESH-INTERVAL:P3D
CALSCALE:GREGORIAN
BEGIN:VEVENT
DTSTART:20231014T010000Z
DTEND:20231014T040000Z
X-MICROSOFT-CDO-ALLDAYEVENT:FALSE
SUMMARY:Wyoming Catholic College Annual Lecture Series - 2023-2024 Lecture 2
DESCRIPTION:Joshua Craddock\, James Wilson Institute on Natural Rights and the American Founding\n\n\n\nCraddock is an affiliated scholar with the James Wilson Institute on Natural Rights and the American Founding. He graduated magna cum laude from the Harvard Law School\, where he served as editor-in-chief of the Harvard Journal of Law & Public Policy. He later clerked for the Honorable Chief Judge Timothy M. Tymkovich of the U.S. Court of Appeals for the Tenth Circuit. Prior to law school\, Josh managed advocacy teams for non-profit organizations at the United Nations and participated in negotiations for the Sustainable Development Goals. His writing has appeared in the Washington Post\, Newsweek\, National Review\, First Things\, Public Discourse\, The Stream\, and Providence Magazine. His academic writing has been published in various law reviews and research journals. He has spoken on hundreds of public platforms\, including for many civic and charitable organizations.
X-ALT-DESC;FMTTYPE=text/html:Joshua Craddock\, James Wilson Institute on Natural Rights and the American Founding<br />\n<br />\nCraddock is an affiliated scholar with the James Wilson Institute on Natural Rights and the American Founding. He graduated magna cum laude from the Harvard Law School\, where he served as editor-in-chief of the Harvard Journal of Law &amp\; Public Policy. He later clerked for the Honorable Chief Judge Timothy M. Tymkovich of the U.S. Court of Appeals for the Tenth Circuit. Prior to law school\, Josh managed advocacy teams for non-profit organizations at the United Nations and participated in negotiations for the Sustainable Development Goals. His writing has appeared in the Washington Post\, Newsweek\, National Review\, First Things\, Public Discourse\, The Stream\, and Providence Magazine. His academic writing has been published in various law reviews and research journals. He has spoken on hundreds of public platforms\, including for many civic and charitable organizations.
LOCATION:Lander Valley High School Auditorium As in past years\, the entire Lecture Series is open to the General Public.
UID:e.1258.30723
SEQUENCE:3
DTSTAMP:20260420T050539Z
URL:http://info.landerchamber.org/events/details/wyoming-catholic-college-annual-lecture-series-2023-2024-lecture-2-30723
END:VEVENT

END:VCALENDAR
