BEGIN:VCALENDAR
VERSION:2.0
PRODID:-//ChamberMaster//Event Calendar 2.0//EN
METHOD:PUBLISH
X-PUBLISHED-TTL:P3D
REFRESH-INTERVAL:P3D
CALSCALE:GREGORIAN
BEGIN:VEVENT
DTSTART:20230913T180000Z
DTEND:20230913T190000Z
X-MICROSOFT-CDO-ALLDAYEVENT:FALSE
SUMMARY:Wyoming APEX Accelerator Lunch & Learn Webinar - Teaming Agreements with Nicole Pottroff of Koprince McCall Pottroff
DESCRIPTION:For large and small contractors alike\, teaming agreements are often essential to winning and successfully performing federal government contracts. Many agencies are (increasingly) requiring teaming agreements for a prime contractor to rely on subcontractor experience\, qualifications\, or resources. Even where a teaming agreement is not required to compete for a contract\, it can still significantly reduce the likelihood of disputes during contract performance. So it is easy to see why teaming agreements are special enough to be the star of their own show. In this webinar\, government contracts attorney\, Nicole Pottroff\, will explain how to develop\, negotiate\, and administer teaming agreements that are both compliant and effective\, covering best practices for teaming agreements that go beyond the bare minimum legal requirements and lead to more successful teams.\n\nPresenters: Nicole D. Pottroff is an equity partner with Koprince McCall Pottroff LLC. Nicole's practice focuses exclusively on federal government contract law. She helps clients understand and comply with the complex regulatory provisions unique to federal contracting\, including the FAR\, DFARS\, and SBA small business\, 8(a) Program\, WOSB/EDWOSB\, SDVOSB/VOSB\, and HUBZone regulations\, among others. Nicole also assists clients by drafting\, reviewing\, and negotiating joint venture agreements\, mentor-prot g  agreements\, teaming agreements\, subcontracts\, social disadvantage narratives\, and other critical documents.\n\nOn the litigation side\, Nicole has also played a key role in numerous GAO bid protests\, SBA size and status protests\, appeals before the SBA's Office of Hearings and Appeals\, and matters before the Boards of Contract Appeals. Nicole graduated from the University of Kansas and the Washburn University School of Law. A lover of animals and all-things outdoors\, Nicole lives in Lawrence\, Kansas\, with her husband and sons.\n\nReserve your spot here.
X-ALT-DESC;FMTTYPE=text/html:<p style="box-sizing: border-box\; margin: 0px\; padding: 0px 0px 1em\; border: 0px\; outline: 0px\; font-size: 14px\; text-size-adjust: 100%\; vertical-align: baseline\; background-image: initial\; background-position: initial\; background-size: initial\; background-repeat: initial\; background-attachment: initial\; background-origin: initial\; background-clip: initial\; color: rgb(53\, 53\, 53)\; font-family: Verdana\, Helvetica\, Arial\, Lucida\, sans-serif\;"><span style="font-family:arial\;"><span style="color: rgb(33\, 33\, 33)\; font-size: 14px\;">For large and small contractors alike\, teaming agreements are often essential to winning and successfully performing federal government contracts. Many agencies are (increasingly) requiring teaming agreements for a prime contractor to rely on subcontractor experience\, qualifications\, or resources. Even where a teaming agreement is not&nbsp\;</span><i style="margin: 0px\; padding: 0px\; border: 0px\; outline: 0px\; font-size: 14px\; text-size-adjust: 100%\; vertical-align: baseline\; background-image: initial\; background-position: initial\; background-size: initial\; background-repeat: initial\; background-attachment: initial\; background-origin: initial\; background-clip: initial\; color: rgb(33\, 33\, 33)\; font-family: Tahoma\, sans-serif\; box-sizing: border-box !important\;">required</i><span style="color: rgb(33\, 33\, 33)\; font-size: 14px\;">&nbsp\;</span><i style="margin: 0px\; padding: 0px\; border: 0px\; outline: 0px\; font-size: 14px\; text-size-adjust: 100%\; vertical-align: baseline\; background-image: initial\; background-position: initial\; background-size: initial\; background-repeat: initial\; background-attachment: initial\; background-origin: initial\; background-clip: initial\; color: rgb(33\, 33\, 33)\; font-family: Tahoma\, sans-serif\; box-sizing: border-box !important\;">to compete</i><span style="color: rgb(33\, 33\, 33)\; font-size: 14px\;">&nbsp\;for a contract\, it can still significantly reduce the likelihood of disputes during contract performance. So it is easy to see why teaming agreements are special enough to be the star of their own show. In this webinar\, government contracts attorney\, Nicole Pottroff\, will explain how to develop\, negotiate\, and administer teaming agreements that are both compliant and effective\, covering best practices for teaming agreements that go beyond the bare minimum legal requirements and lead to more successful teams.</span></span></p>\n\n<p style="padding: 0px\; border: 0px\; outline: 0px\; font-size: 14px\; text-size-adjust: 100%\; vertical-align: baseline\; background: transparent\; color: rgb(33\, 33\, 33)\; font-family: Verdana\, Helvetica\, Arial\, Lucida\, sans-serif\; box-sizing: border-box !important\; margin: 0px 0px 25px !important\; line-height: var(--line-height) !important\;"><span style="font-family:arial\;"><span style="margin: 0px\; padding: 0px\; border: 0px\; outline: 0px\; text-size-adjust: 100%\; vertical-align: baseline\; background: transparent\; font-weight: bolder\; box-sizing: border-box !important\;">Presenters:</span>&nbsp\;Nicole D. Pottroff is an equity partner with Koprince McCall Pottroff LLC. Nicole&rsquo\;s practice focuses exclusively on federal government contract law. She helps clients understand and comply with the complex regulatory provisions unique to federal contracting\, including the FAR\, DFARS\, and SBA small business\, 8(a) Program\, WOSB/EDWOSB\, SDVOSB/VOSB\, and HUBZone regulations\, among others. Nicole also assists clients by drafting\, reviewing\, and negotiating joint venture agreements\, mentor-prot&eacute\;g&eacute\; agreements\, teaming agreements\, subcontracts\, social disadvantage narratives\, and other critical documents.</span></p>\n\n<p style="padding: 0px\; border: 0px\; outline: 0px\; font-size: 14px\; text-size-adjust: 100%\; vertical-align: baseline\; background: transparent\; color: rgb(33\, 33\, 33)\; font-family: Verdana\, Helvetica\, Arial\, Lucida\, sans-serif\; box-sizing: border-box !important\; margin: 0px 0px 25px !important\; line-height: var(--line-height) !important\;"><span style="font-family:arial\;">On the litigation side\, Nicole has also played a key role in numerous GAO bid protests\, SBA size and status protests\, appeals before the SBA&rsquo\;s Office of Hearings and Appeals\, and matters before the Boards of Contract Appeals. Nicole graduated from the University of Kansas and the Washburn University School of Law. A lover of animals and all-things outdoors\, Nicole lives in Lawrence\, Kansas\, with her husband and sons.</span></p>\n\n<p style="box-sizing: border-box\; margin: 0px\; padding: 0px\; border: 0px\; outline: 0px\; text-size-adjust: 100%\; vertical-align: baseline\; background: transparent\;"><span style="font-family:arial\;"><a href="https://uwyo.zoom.us/meeting/register/tJwkdOqhqzorHNzvPKnxtJaXvR2xoMppaBEm" target="_blank"><strong>Reserve your spot here.</strong></a></span></p>\n
LOCATION:Online
UID:e.1258.30736
SEQUENCE:3
DTSTAMP:20260420T080356Z
URL:http://info.landerchamber.org/events/details/wyoming-apex-accelerator-lunch-learn-webinar-teaming-agreements-with-nicole-pottroff-of-koprince-mccall-pottroff-30736
END:VEVENT

END:VCALENDAR
