BEGIN:VCALENDAR
VERSION:2.0
PRODID:-//ChamberMaster//Event Calendar 2.0//EN
METHOD:PUBLISH
X-PUBLISHED-TTL:P3D
REFRESH-INTERVAL:P3D
CALSCALE:GREGORIAN
BEGIN:VEVENT
DTSTART:20230720T180000Z
DTEND:20230720T190000Z
X-MICROSOFT-CDO-ALLDAYEVENT:FALSE
SUMMARY:WY SBDC Business Fitness Webinar: Create Your Holiday Marketing Plan
DESCRIPTION:We may have just gotten rid of the snow and ice in Wyoming so thinking about your holiday marketing plan might seem a little soon\, but July is the perfect time to start planning your holiday season. Evaluating your holiday marketing strategy in July allows you to step back and look at that critical season more objectively so you can make a plan based on data and strategy. The topics covered in this webinar may apply to holiday planning but can be applied to any time of the year as well. \n\n\n\nWe will explore the following topics:\n\n\n\n  Discover what to include in your holiday marketing plan and why\n\n  Common pitfalls and how to avoid them\n\n  Tips and tools for your holiday advertising plan\n\n\n\nPresenter: Regional Director Audie Cunningham: Audie enjoys seeing community members bring their business ideas to life and is eager to help them grow and thrive. As an entrepreneur\, Audie has worked in art licensing and graphic design and has 10 years of experience in customer service and marketing through her work in public libraries. Her education and experience have given her knowledge in print and digital marketing\, creating marketing plans\, social media marketing\, and business planning. When not supporting local businesses through the Wyoming SBDC Network\, Audie enjoys getting outside to ride her bike\, ski\, and paint.
X-ALT-DESC;FMTTYPE=text/html:<p style="padding: 0px 0px 1em\; border: 0px\; outline: 0px\; font-size: 14px\; text-size-adjust: 100%\; vertical-align: baseline\; background-image: initial\; background-position: initial\; background-size: initial\; background-repeat: initial\; background-attachment: initial\; background-origin: initial\; background-clip: initial\; color: rgb(33\, 33\, 33)\; font-family: Verdana\, Helvetica\, Arial\, Lucida\, sans-serif\; box-sizing: border-box !important\; margin: 0px 0px 25px !important\; line-height: var(--line-height) !important\;">We may have just gotten rid of the snow and ice in Wyoming so thinking about your holiday marketing plan might seem a little soon\, but July is the perfect time to start planning your holiday season. Evaluating your holiday marketing strategy in July allows you to step back and look at that critical season more objectively so you can make a plan based on data and strategy. The topics covered in this webinar may apply to holiday planning but can be applied to any time of the year as well.&nbsp\;<br />\n<br />\nWe will explore the following topics:<br />\n<br />\n&bull\; Discover what to include in your holiday marketing plan and why<br />\n&bull\; Common pitfalls and how to avoid them<br />\n&bull\; Tips and tools for your holiday advertising plan<br />\n<br />\nPresenter: Regional Director Audie Cunningham: Audie enjoys seeing community members bring their business ideas to life and is eager to help them grow and thrive. As an entrepreneur\, Audie has worked in art licensing and graphic design and has 10 years of experience in customer service and marketing through her work in public libraries. Her education and experience have given her knowledge in print and digital marketing\, creating marketing plans\, social media marketing\, and business planning. When not supporting local businesses through the Wyoming SBDC Network\, Audie enjoys getting outside to ride her bike\, ski\, and paint.</p>\n
LOCATION:Online.
UID:e.1258.30656
SEQUENCE:3
DTSTAMP:20260420T104227Z
URL:http://info.landerchamber.org/events/details/wy-sbdc-business-fitness-webinar-create-your-holiday-marketing-plan-30656
END:VEVENT

END:VCALENDAR
