BEGIN:VCALENDAR
VERSION:2.0
PRODID:-//ChamberMaster//Event Calendar 2.0//EN
METHOD:PUBLISH
X-PUBLISHED-TTL:P3D
REFRESH-INTERVAL:P3D
CALSCALE:GREGORIAN
BEGIN:VEVENT
DTSTART:20180421T190000Z
DTEND:20180421T210000Z
X-MICROSOFT-CDO-ALLDAYEVENT:FALSE
SUMMARY:Winter Farmers Market
DESCRIPTION:Lander Valley Farmers Market - Winter Market on Saturdays\, 1-3pm at the old Fremont Motors Building. Stock up on winter staples and support local!  The Winter Market features fresh baked breads\, pies\, and other goodies\, milk and cheese\, jams\, jellies\, and pickles\, locally raised meat\, seasonal produce\, coffee beans\, crafts\, jewelry\, and much more!
X-ALT-DESC;FMTTYPE=text/html:Lander Valley Farmers Market - Winter Market on Saturdays\, 1-3pm at the old Fremont Motors Building. Stock up on winter staples and support local!&nbsp\; The Winter Market features fresh baked breads\, pies\, and other goodies\, milk and cheese\, jams\, jellies\, and pickles\, locally raised meat\, seasonal produce\, coffee beans\, crafts\, jewelry\, and much more!&nbsp\;
LOCATION:555 E. Main Street in Lander
UID:e.1258.15757
SEQUENCE:3
DTSTAMP:20260424T144311Z
URL:http://info.landerchamber.org/events/details/winter-farmers-market-04-21-2018-15757
END:VEVENT

END:VCALENDAR
