BEGIN:VCALENDAR
VERSION:2.0
PRODID:-//ChamberMaster//Event Calendar 2.0//EN
METHOD:PUBLISH
X-PUBLISHED-TTL:P3D
REFRESH-INTERVAL:P3D
CALSCALE:GREGORIAN
BEGIN:VEVENT
DTSTART:20230914T230000Z
DTEND:20230915T010000Z
X-MICROSOFT-CDO-ALLDAYEVENT:FALSE
SUMMARY:Wind River Outdoor Recreation Collaborative Meeting
DESCRIPTION:The Wind River Outdoor Recreation Collaborative - WRORC (Fremont County) will meet on Thursday\, September 14th from 5:00 pm to 7:00 pm at the Dubois Library (202 N 1st St).\n\n\n\nJoin virtually here: https://meet.google.com/mdd-gaff-cdm or dial:  (US) +1 470-268-2852 PIN:  685 827 292#.\n\n\n\nOn the agenda for the meeting is subcommittee updates\, a group brainstorm/update on Dubois topics\, an early discussion for a WRORC clean-up day\, and more.\n\n\n\nMembers of the public are welcome to attend collaborative meetings in-person or virtually. There will be a designated time for public comment near the end of each meeting.\n\n\n\nLearn more about the Office and future community collaboratives by following us on social media or visiting www.wyorec.com.
X-ALT-DESC;FMTTYPE=text/html:<div class="xdj266r x11i5rnm xat24cr x1mh8g0r x1vvkbs"><span class="x193iq5w xeuugli x13faqbe x1vvkbs x1xmvt09 x1lliihq x1s928wv xhkezso x1gmr53x x1cpjm7i x1fgarty x1943h6x xudqn12 x3x7a5m x6prxxf xvq8zen xo1l8bm xzsf02u" dir="auto">The&nbsp\;Wind River Outdoor Recreation Collaborative - WRORC (Fremont County) will meet on Thursday\, September 14th from 5:00 pm to 7:00 pm at the Dubois Library (202 N 1st St).<br />\n<br />\nJoin virtually here: <a class="x1i10hfl xjbqb8w x6umtig x1b1mbwd xaqea5y xav7gou x9f619 x1ypdohk xt0psk2 xe8uvvx xdj266r x11i5rnm xat24cr x1mh8g0r xexx8yu x4uap5 x18d9i69 xkhd6sd x16tdsg8 x1hl2dhg xggy1nq x1a2a7pz xt0b8zv x1fey0fg" href="https://meet.google.com/mdd-gaff-cdm" rel="noreferrer noopener" target="_blank">https://meet.google.com/mdd-gaff-cdm</a> or dial: &#8234\;(US) +1 470-268-2852 PIN: &#8234\;685 827 292#.<br />\n<br />\nOn the agenda for the meeting is subcommittee updates\, a group brainstorm/update on Dubois topics\, an early discussion for a WRORC clean-up day\, and more.<br />\n<br />\nMembers of the public are welcome to attend collaborative meetings in-person or virtually. There will be a designated time for public comment near the end of each meeting.<br />\n<br />\nLearn more about the Office and future community collaboratives by following us on social media or visiting <a class="x1i10hfl xjbqb8w x6umtig x1b1mbwd xaqea5y xav7gou x9f619 x1ypdohk xt0psk2 xe8uvvx xdj266r x11i5rnm xat24cr x1mh8g0r xexx8yu x4uap5 x18d9i69 xkhd6sd x16tdsg8 x1hl2dhg xggy1nq x1a2a7pz xt0b8zv x1fey0fg" href="http://www.wyorec.com/" rel="nofollow noreferrer" role="link" tabindex="0" target="_blank">www.wyorec.com.</a></span></div>\n
LOCATION:Dubois Library
UID:e.1258.30746
SEQUENCE:3
DTSTAMP:20260420T062222Z
URL:http://info.landerchamber.org/events/details/wind-river-outdoor-recreation-collaborative-meeting-30746
END:VEVENT

END:VCALENDAR
