BEGIN:VCALENDAR
VERSION:2.0
PRODID:-//ChamberMaster//Event Calendar 2.0//EN
METHOD:PUBLISH
X-PUBLISHED-TTL:P3D
REFRESH-INTERVAL:P3D
CALSCALE:GREGORIAN
BEGIN:VEVENT
DTSTART:20240403T010000Z
DTEND:20240403T023000Z
X-MICROSOFT-CDO-ALLDAYEVENT:FALSE
SUMMARY:Wildlife on Tap - The Ethical Trapper
DESCRIPTION:Join Wyoming Wildlife Federation and trapping expert EJ Kelly to discuss the basics of trapping and how to carry on the historical practice of trapping in an ethical way. Bring your meal\, your drink\, or just yourself to the Coalter Loft above the Gannett Grill and Lander Bar for a fun\, friendly\, and lively discussion.\n\n\n\nWildlife on Tap is an extension of the Wyoming Wildlife Federation's education program. The education program includes kids' education through curated Wyoming-based curricula\, Class Outside Summer Camps\, and community events like Wildlife on Tap for adults.
X-ALT-DESC;FMTTYPE=text/html:<span style="background-color:transparent\; color:rgb(0\, 0\, 0)\; font-family:arial\,sans-serif\; font-size:11pt">Join Wyoming Wildlife Federation and trapping expert EJ Kelly to discuss the basics of trapping and how to carry on the historical practice of trapping in an ethical way. Bring your meal\, your drink\, or just yourself to the Coalter Loft above the Gannett Grill and Lander Bar for a fun\, friendly\, and lively discussion.</span><br />\n<br />\n<span style="color:rgb(68\, 68\, 68)\; font-family:arial\,helvetica\,sans-serif\; font-size:14px">Wildlife on Tap is an extension of the Wyoming Wildlife Federation&rsquo\;s education program. The education program includes kids&rsquo\; education through curated Wyoming-based curricula\, Class Outside Summer Camps\, and community events like Wildlife on Tap for adults.</span>
LOCATION:The Coalter Loft above the Gannett Grill. 126 Main St. Lander\, WY 82520
UID:e.1258.30944
SEQUENCE:3
DTSTAMP:20260419T211054Z
URL:http://info.landerchamber.org/events/details/wildlife-on-tap-the-ethical-trapper-30944
END:VEVENT

END:VCALENDAR
